|SUCCESS| [GIT MASTER] 373f4c7de8ff350548cacc3d56e788461677f2c7

dpdklab at iol.unh.edu dpdklab at iol.unh.edu
Thu Dec 22 05:04:38 CET 2022


_Testing PASS_

Branch: dpdk

373f4c7de8ff350548cacc3d56e788461677f2c7 --> testing pass

Test environment and result as below:

+-------------------------------+----------------+--------------------+
|          Environment          | dpdk_unit_test | dpdk_meson_compile |
+===============================+================+====================+
| Ubuntu 20.04 ARM GCC Native   | PASS           | SKIPPED            |
+-------------------------------+----------------+--------------------+
| Ubuntu 20.04 ARM Clang Native | PASS           | SKIPPED            |
+-------------------------------+----------------+--------------------+
| Windows Server 2019           | PASS           | SKIPPED            |
+-------------------------------+----------------+--------------------+
| Debian Bullseye               | PASS           | SKIPPED            |
+-------------------------------+----------------+--------------------+
| Ubuntu 22.04                  | PASS           | SKIPPED            |
+-------------------------------+----------------+--------------------+
| Arch Linux                    | PASS           | SKIPPED            |
+-------------------------------+----------------+--------------------+
| RHEL8                         | PASS           | SKIPPED            |
+-------------------------------+----------------+--------------------+
| Debian Buster                 | PASS           | SKIPPED            |
+-------------------------------+----------------+--------------------+
| FreeBSD 13                    | SKIPPED        | PASS               |
+-------------------------------+----------------+--------------------+


Ubuntu 20.04 ARM GCC Native
	Kernel: 5.4.0-53-generic
	Compiler: gcc 9.3

Ubuntu 20.04 ARM Clang Native
	Kernel: 5.4.0-53-generic
	Compiler: clang 10.0.0-4ubuntu1

Windows Server 2019
	Kernel: 10.0
	Compiler: clang 14.0 and gcc 8.1.0 (MinGW)

Debian Bullseye
	Kernel: 5.4.0-122-generic
	Compiler: gcc 10.2.1-6

Ubuntu 22.04
	Kernel: Container Host Kernel
	Compiler: gcc 12.2.1-2

Arch Linux
	Kernel: 5.4.0-73-generic
	Compiler: gcc 11.1.0

RHEL8
	Kernel: 4.18.0-240.10.1.el8_3.x86_64
	Compiler: gcc 8.3.1 20191121 (Red Hat 8.3.1-5)

Debian Buster
	Kernel: 5.4.0-122-generic
	Compiler: gcc 8.3.0-6

FreeBSD 13
	Kernel: 13.0
	Compiler: clang 11.0.1

To view detailed results, visit:
https://lab.dpdk.org/results/dashboard/tarballs/22711/

UNH-IOL DPDK Community Lab

To manage your email subscriptions, visit: 
https://lab.dpdk.org/results/dashboard/preferences/subscriptions/


More information about the test-report mailing list