|SUCCESS| [GIT MASTER] 373f4c7de8ff350548cacc3d56e788461677f2c7
dpdklab at iol.unh.edu
dpdklab at iol.unh.edu
Sat Dec 24 04:46:14 CET 2022
_Testing PASS_
Branch: dpdk
373f4c7de8ff350548cacc3d56e788461677f2c7 --> testing pass
Test environment and result as below:
+------------------+----------+
| Environment | abi_test |
+==================+==========+
| Debian Bullseye | PASS |
+------------------+----------+
| Debian Buster | PASS |
+------------------+----------+
| Ubuntu 22.04 | PASS |
+------------------+----------+
| Ubuntu 20.04 | PASS |
+------------------+----------+
| RHEL8 | PASS |
+------------------+----------+
| RHEL 7 | PASS |
+------------------+----------+
| openSUSE Leap 15 | PASS |
+------------------+----------+
| CentOS Stream 9 | PASS |
+------------------+----------+
| CentOS Stream 8 | PASS |
+------------------+----------+
| Arch Linux | PASS |
+------------------+----------+
Debian Bullseye
Kernel: 5.4.0-122-generic
Compiler: gcc 10.2.1-6
Debian Buster
Kernel: 5.4.0-122-generic
Compiler: gcc 8.3.0-6
Ubuntu 22.04
Kernel: Container Host Kernel
Compiler: gcc 12.2.1-2
Ubuntu 20.04
Kernel: 4.18.0-240.10.1.el8_3.x86_64
Compiler: gcc 9.3.0-17ubuntu1~20.04
RHEL8
Kernel: 4.18.0-240.10.1.el8_3.x86_64
Compiler: gcc 8.3.1 20191121 (Red Hat 8.3.1-5)
RHEL 7
Kernel: 4.18.0-240.10.1.el8_3.x86_64
Compiler: gcc 4.8.5 20150623 (Red Hat 4.8.5-44)
openSUSE Leap 15
Kernel: 4.18.0-240.10.1.el8_3.x86_64
Compiler: gcc 7.5.0
CentOS Stream 9
Kernel: 4.18.0-240.10.1.el8_3.x86_64
Compiler: gcc 11.3.1 20220421
CentOS Stream 8
Kernel: 4.18.0-240.10.1.el8_3.x86_64
Compiler: gcc 8.4.1 20200928
Arch Linux
Kernel: 5.4.0-73-generic
Compiler: gcc 11.1.0
To view detailed results, visit:
https://lab.dpdk.org/results/dashboard/tarballs/22726/
UNH-IOL DPDK Community Lab
To manage your email subscriptions, visit:
https://lab.dpdk.org/results/dashboard/preferences/subscriptions/
More information about the test-report
mailing list