|SUCCESS| [GIT MASTER] 9dae7a15aea76313c592c11db44e1386e85f86fe

dpdklab at iol.unh.edu dpdklab at iol.unh.edu
Fri Dec 30 08:11:39 CET 2022


_Testing PASS_

Branch: tags/v22.11

9dae7a15aea76313c592c11db44e1386e85f86fe --> testing pass

Test environment and result as below:

+------------------------------------+--------------------+----------------------+----------------+
|            Environment             | dpdk_meson_compile | dpdk_mingw64_compile | dpdk_unit_test |
+====================================+====================+======================+================+
| FreeBSD 13                         | PASS               | SKIPPED              | SKIPPED        |
+------------------------------------+--------------------+----------------------+----------------+
| Windows Server 2019                | PASS               | PASS                 | PASS           |
+------------------------------------+--------------------+----------------------+----------------+
| Ubuntu 20.04 ARM GCC Native        | PASS               | SKIPPED              | PASS           |
+------------------------------------+--------------------+----------------------+----------------+
| Ubuntu 20.04 ARM Clang Native      | PASS               | SKIPPED              | PASS           |
+------------------------------------+--------------------+----------------------+----------------+
| Ubuntu 20.04 ARM GCC Cross Compile | PASS               | SKIPPED              | SKIPPED        |
+------------------------------------+--------------------+----------------------+----------------+
| CentOS Stream 9                    | SKIPPED            | SKIPPED              | PASS           |
+------------------------------------+--------------------+----------------------+----------------+
| Ubuntu 22.04                       | SKIPPED            | SKIPPED              | PASS           |
+------------------------------------+--------------------+----------------------+----------------+


FreeBSD 13
	Kernel: 13.0
	Compiler: clang 11.0.1

Windows Server 2019
	Kernel: 10.0
	Compiler: clang 14.0 and gcc 8.1.0 (MinGW)

Ubuntu 20.04 ARM GCC Native
	Kernel: 5.4.0-53-generic
	Compiler: gcc 9.3

Ubuntu 20.04 ARM Clang Native
	Kernel: 5.4.0-53-generic
	Compiler: clang 10.0.0-4ubuntu1

Ubuntu 20.04 ARM GCC Cross Compile
	Kernel: 5.4.0-72-generic
	Compiler: aarch64-linux-gnu-gcc (Ubuntu 9.3.0-17ubuntu1~20.04) 9.3.0

CentOS Stream 9
	Kernel: 4.18.0-240.10.1.el8_3.x86_64
	Compiler: gcc 11.3.1 20220421

Ubuntu 22.04
	Kernel: Container Host Kernel
	Compiler: gcc 12.2.1-2

To view detailed results, visit:
https://lab.dpdk.org/results/dashboard/tarballs/22756/

UNH-IOL DPDK Community Lab

To manage your email subscriptions, visit: 
https://lab.dpdk.org/results/dashboard/preferences/subscriptions/


More information about the test-report mailing list