|SUCCESS| pw107322-107329 [PATCH] [v5, 10/10] app/testpmd: add async indirect actions creation/destruction

dpdklab at iol.unh.edu dpdklab at iol.unh.edu
Fri Feb 11 07:09:56 CET 2022


Test-Label: iol-aarch64-unit-testing
Test-Status: SUCCESS
http://dpdk.org/patch/107329

_Testing PASS_

Submitter: Alexander Kozyrev <akozyrev at nvidia.com>
Date: Friday, February 11 2022 02:26:53 
DPDK git baseline: Repo:dpdk
  Branch: master
  CommitID:1d1126ad436e8c7c015fb3f67ad3af05c3b397d5

107322-107329 --> testing pass

Test environment and result as below:

+-------------------------------+----------------+--------------+
|          Environment          | dpdk_unit_test | lpm_autotest |
+===============================+================+==============+
| Ubuntu 20.04 ARM Clang Native | PASS           | SKIPPED      |
+-------------------------------+----------------+--------------+
| Ubuntu 20.04 ARM GCC Native   | PASS           | SKIPPED      |
+-------------------------------+----------------+--------------+
| Ubuntu 20.04 ARM SVE          | SKIPPED        | PASS         |
+-------------------------------+----------------+--------------+


Ubuntu 20.04 ARM Clang Native
	Kernel: 5.4.0-53-generic
	Compiler: clang 10.0.0-4ubuntu1

Ubuntu 20.04 ARM GCC Native
	Kernel: 5.4.0-53-generic
	Compiler: gcc 9.3

Ubuntu 20.04 ARM SVE
	Kernel: 5.4.0-80-generic
	Compiler: gcc 10.3.0 (Ubuntu 10.3.0-1ubuntu1~20.04)

To view detailed results, visit:
https://lab.dpdk.org/results/dashboard/patchsets/21025/

UNH-IOL DPDK Community Lab

To manage your email subscriptions, visit: 
https://lab.dpdk.org/results/dashboard/preferences/subscriptions/


More information about the test-report mailing list