|SUCCESS| pw107266-107268 [PATCH] [v2, 3/3] net/ark: support chunk DMA transfers
dpdklab at iol.unh.edu
dpdklab at iol.unh.edu
Mon Feb 14 05:03:48 CET 2022
Test-Label: iol-x86_64-unit-testing
Test-Status: SUCCESS
http://dpdk.org/patch/107268
_Testing PASS_
Submitter: John Miller <john.miller at atomicrules.com>
Date: Thursday, February 10 2022 14:34:23
DPDK git baseline: Repo:dpdk
Branch: master
CommitID:6e97b5fc1ada1501852e12de84c8514db248929d
107266-107268 --> testing pass
Test environment and result as below:
+------------------+----------------+
| Environment | dpdk_unit_test |
+==================+================+
| Arch Linux | PASS |
+------------------+----------------+
| CentOS Stream 8 | PASS |
+------------------+----------------+
| Fedora 31 | PASS |
+------------------+----------------+
| Fedora 33 | PASS |
+------------------+----------------+
| RHEL8 | PASS |
+------------------+----------------+
| openSUSE Leap 15 | PASS |
+------------------+----------------+
| Ubuntu 20.04 | PASS |
+------------------+----------------+
| Fedora 32 | PASS |
+------------------+----------------+
| Fedora 34 | PASS |
+------------------+----------------+
| Fedora 34 clang | PASS |
+------------------+----------------+
| CentOS 8 | PASS |
+------------------+----------------+
| RHEL 7 | PASS |
+------------------+----------------+
| Ubuntu 18.04 | PASS |
+------------------+----------------+
Arch Linux
Kernel: 5.4.0-73-generic
Compiler: gcc 11.1.0
CentOS Stream 8
Kernel: 4.18.0-240.10.1.el8_3.x86_64
Compiler: gcc 8.4.1 20200928
Fedora 31
Kernel: 4.18.0-240.10.1.el8_3.x86_64
Compiler: gcc 9.3.1
Fedora 33
Kernel: 5.4.0-72-generic
Compiler: gcc 10.3.1 20210422 (Red Hat 10.3.1-1)
RHEL8
Kernel: 4.18.0-240.10.1.el8_3.x86_64
Compiler: gcc 8.3.1 20191121 (Red Hat 8.3.1-5)
openSUSE Leap 15
Kernel: 4.18.0-240.10.1.el8_3.x86_64
Compiler: gcc 7.5.0
Ubuntu 20.04
Kernel: 4.18.0-240.10.1.el8_3.x86_64
Compiler: gcc 9.3.0-17ubuntu1~20.04
Fedora 32
Kernel: 4.18.0-240.10.1.el8_3.x86_64
Compiler: gcc 10.2.1
Fedora 34
Kernel: 5.4.0-72-generic
Compiler: gcc 11.1.1 20210428 (Red Hat 11.1.1-1)
Fedora 34 clang
Kernel: 5.4.0-72-generic
Compiler: clang 12.0.0 (Fedora 12.0.0-0.3.rc1.fc34)
CentOS 8
Kernel: 4.18.0-240.10.1.el8_3.x86_64
Compiler: gcc 8.3.1 20191121 (Red Hat 8.3.1-5)
RHEL 7
Kernel: 4.18.0-240.10.1.el8_3.x86_64
Compiler: gcc 4.8.5 20150623 (Red Hat 4.8.5-44)
Ubuntu 18.04
Kernel: 4.18.0-240.10.1.el8_3.x86_64
Compiler: gcc 7.5.0-3ubuntu1~18.04
To view detailed results, visit:
https://lab.dpdk.org/results/dashboard/patchsets/21012/
UNH-IOL DPDK Community Lab
To manage your email subscriptions, visit:
https://lab.dpdk.org/results/dashboard/preferences/subscriptions/
More information about the test-report
mailing list