|SUCCESS| [GIT MASTER] d3db37893eeeb17b4f3f96eea072077c0fc537d1

dpdklab at iol.unh.edu dpdklab at iol.unh.edu
Mon Feb 21 13:31:10 CET 2022


_Testing PASS_

Branch: dpdk-next-eventdev

d3db37893eeeb17b4f3f96eea072077c0fc537d1 --> testing pass

Test environment and result as below:

+-----------------+----------------+
|   Environment   | dpdk_unit_test |
+=================+================+
| CentOS 8        | PASS           |
+-----------------+----------------+
| Ubuntu 18.04    | PASS           |
+-----------------+----------------+
| Fedora 34 clang | PASS           |
+-----------------+----------------+


CentOS 8
	Kernel: 4.18.0-240.10.1.el8_3.x86_64
	Compiler: gcc 8.3.1 20191121 (Red Hat 8.3.1-5)

Ubuntu 18.04
	Kernel: 4.18.0-240.10.1.el8_3.x86_64
	Compiler: gcc 7.5.0-3ubuntu1~18.04

Fedora 34 clang
	Kernel: 5.4.0-72-generic
	Compiler: clang 12.0.0 (Fedora 12.0.0-0.3.rc1.fc34)

To view detailed results, visit:
https://lab.dpdk.org/results/dashboard/tarballs/18811/

UNH-IOL DPDK Community Lab

To manage your email subscriptions, visit: 
https://lab.dpdk.org/results/dashboard/preferences/subscriptions/


More information about the test-report mailing list