|SUCCESS| pw108189 [PATCH] [v2] sched: fix integer handling issue
dpdklab at iol.unh.edu
dpdklab at iol.unh.edu
Thu Feb 24 05:19:26 CET 2022
Test-Label: iol-aarch64-unit-testing
Test-Status: SUCCESS
http://dpdk.org/patch/108189
_Testing PASS_
Submitter: Megha Ajmera <megha.ajmera at intel.com>
Date: Wednesday, February 23 2022 17:36:30
DPDK git baseline: Repo:dpdk
Branch: master
CommitID:ee05a93e1e6633d0fdec409faf09f12a2e05b991
108189 --> testing pass
Test environment and result as below:
+-------------------------------+----------------+--------------+
| Environment | dpdk_unit_test | lpm_autotest |
+===============================+================+==============+
| Ubuntu 20.04 ARM GCC Native | PASS | SKIPPED |
+-------------------------------+----------------+--------------+
| Ubuntu 20.04 ARM Clang Native | PASS | SKIPPED |
+-------------------------------+----------------+--------------+
| Ubuntu 20.04 ARM SVE | SKIPPED | PASS |
+-------------------------------+----------------+--------------+
Ubuntu 20.04 ARM GCC Native
Kernel: 5.4.0-53-generic
Compiler: gcc 9.3
Ubuntu 20.04 ARM Clang Native
Kernel: 5.4.0-53-generic
Compiler: clang 10.0.0-4ubuntu1
Ubuntu 20.04 ARM SVE
Kernel: 5.4.0-80-generic
Compiler: gcc 10.3.0 (Ubuntu 10.3.0-1ubuntu1~20.04)
To view detailed results, visit:
https://lab.dpdk.org/results/dashboard/patchsets/21231/
UNH-IOL DPDK Community Lab
To manage your email subscriptions, visit:
https://lab.dpdk.org/results/dashboard/preferences/subscriptions/
More information about the test-report
mailing list