|SUCCESS| pw108302-108308 [PATCH] [v2, 7/7] vdpa/mlx5: make statistics counter persistent
dpdklab at iol.unh.edu
dpdklab at iol.unh.edu
Sat Feb 26 02:57:48 CET 2022
Test-Label: iol-abi-testing
Test-Status: SUCCESS
http://dpdk.org/patch/108308
_Testing PASS_
Submitter: Xueming Li <xuemingl at nvidia.com>
Date: Thursday, February 24 2022 15:51:01
DPDK git baseline: Repo:dpdk
Branch: master
CommitID:ee05a93e1e6633d0fdec409faf09f12a2e05b991
108302-108308 --> testing pass
Test environment and result as below:
+-----------------------------+----------+
| Environment | abi_test |
+=============================+==========+
| Ubuntu 20.04 ARM GCC Native | PASS |
+-----------------------------+----------+
| RHEL 7 | PASS |
+-----------------------------+----------+
| Ubuntu 20.04 | PASS |
+-----------------------------+----------+
| Fedora 32 | PASS |
+-----------------------------+----------+
| Ubuntu 18.04 | PASS |
+-----------------------------+----------+
| Fedora 31 | PASS |
+-----------------------------+----------+
| RHEL8 | PASS |
+-----------------------------+----------+
| Fedora 34 | PASS |
+-----------------------------+----------+
| Fedora 33 | PASS |
+-----------------------------+----------+
| openSUSE Leap 15 | PASS |
+-----------------------------+----------+
| Fedora 34 clang | PASS |
+-----------------------------+----------+
| CentOS 8 | PASS |
+-----------------------------+----------+
| Arch Linux | PASS |
+-----------------------------+----------+
| CentOS Stream 8 | PASS |
+-----------------------------+----------+
Ubuntu 20.04 ARM GCC Native
Kernel: 5.4.0-53-generic
Compiler: gcc 9.3
RHEL 7
Kernel: 4.18.0-240.10.1.el8_3.x86_64
Compiler: gcc 4.8.5 20150623 (Red Hat 4.8.5-44)
Ubuntu 20.04
Kernel: 4.18.0-240.10.1.el8_3.x86_64
Compiler: gcc 9.3.0-17ubuntu1~20.04
Fedora 32
Kernel: 4.18.0-240.10.1.el8_3.x86_64
Compiler: gcc 10.2.1
Ubuntu 18.04
Kernel: 4.18.0-240.10.1.el8_3.x86_64
Compiler: gcc 7.5.0-3ubuntu1~18.04
Fedora 31
Kernel: 4.18.0-240.10.1.el8_3.x86_64
Compiler: gcc 9.3.1
RHEL8
Kernel: 4.18.0-240.10.1.el8_3.x86_64
Compiler: gcc 8.3.1 20191121 (Red Hat 8.3.1-5)
Fedora 34
Kernel: 5.4.0-72-generic
Compiler: gcc 11.1.1 20210428 (Red Hat 11.1.1-1)
Fedora 33
Kernel: 5.4.0-72-generic
Compiler: gcc 10.3.1 20210422 (Red Hat 10.3.1-1)
openSUSE Leap 15
Kernel: 4.18.0-240.10.1.el8_3.x86_64
Compiler: gcc 7.5.0
Fedora 34 clang
Kernel: 5.4.0-72-generic
Compiler: clang 12.0.0 (Fedora 12.0.0-0.3.rc1.fc34)
CentOS 8
Kernel: 4.18.0-240.10.1.el8_3.x86_64
Compiler: gcc 8.3.1 20191121 (Red Hat 8.3.1-5)
Arch Linux
Kernel: 5.4.0-73-generic
Compiler: gcc 11.1.0
CentOS Stream 8
Kernel: 4.18.0-240.10.1.el8_3.x86_64
Compiler: gcc 8.4.1 20200928
To view detailed results, visit:
https://lab.dpdk.org/results/dashboard/patchsets/21260/
UNH-IOL DPDK Community Lab
To manage your email subscriptions, visit:
https://lab.dpdk.org/results/dashboard/preferences/subscriptions/
More information about the test-report
mailing list