|SUCCESS| pw105877 [PATCH] [v3] eal: fix unaligned loads/stores in rte_memcpy_generic
dpdklab at iol.unh.edu
dpdklab at iol.unh.edu
Sun Jan 16 16:18:09 CET 2022
Test-Label: iol-aarch64-compile-testing
Test-Status: SUCCESS
http://dpdk.org/patch/105877
_Testing PASS_
Submitter: Luc Pelletier <lucp.at.work at gmail.com>
Date: Sunday, January 16 2022 14:13:05
DPDK git baseline: Repo:dpdk
Branch: master
CommitID:6f716880ee53ac1e50c9c75dc749886e3257bb8f
105877 --> testing pass
Test environment and result as below:
+----------------------------------------+--------------------+
| Environment | dpdk_meson_compile |
+========================================+====================+
| Ubuntu 20.04 ARM GCC Native | PASS |
+----------------------------------------+--------------------+
| Ubuntu 20.04 ARM Clang Native | PASS |
+----------------------------------------+--------------------+
| Ubuntu 20.04 aarch32 GCC Cross Compile | PASS |
+----------------------------------------+--------------------+
| Ubuntu 20.04 ARM GCC Cross Compile | PASS |
+----------------------------------------+--------------------+
| Ubuntu 20.04 ARM Clang Cross Compile | PASS |
+----------------------------------------+--------------------+
| Ubuntu 20.04 ARM SVE | PASS |
+----------------------------------------+--------------------+
Ubuntu 20.04 ARM GCC Native
Kernel: 5.4.0-53-generic
Compiler: gcc 9.3
Ubuntu 20.04 ARM Clang Native
Kernel: 5.4.0-53-generic
Compiler: clang 10.0.0-4ubuntu1
Ubuntu 20.04 aarch32 GCC Cross Compile
Kernel: 5.4.0-72-generic
Compiler: gcc 9.3.0
Ubuntu 20.04 ARM GCC Cross Compile
Kernel: 5.4.0-72-generic
Compiler: aarch64-linux-gnu-gcc (Ubuntu 9.3.0-17ubuntu1~20.04) 9.3.0
Ubuntu 20.04 ARM Clang Cross Compile
Kernel: 5.4.0-72-generic
Compiler: clang version 10.0.0-4ubuntu1
Ubuntu 20.04 ARM SVE
Kernel: 5.4.0-80-generic
Compiler: gcc 10.3.0 (Ubuntu 10.3.0-1ubuntu1~20.04)
To view detailed results, visit:
https://lab.dpdk.org/results/dashboard/patchsets/20675/
UNH-IOL DPDK Community Lab
To manage your email subscriptions, visit:
https://lab.dpdk.org/results/dashboard/preferences/subscriptions/
More information about the test-report
mailing list