|SUCCESS| pw113976-113978 [PATCH] [v3, 5/5] vdpa/sfc: Add support for SW assisted live migration
dpdklab at iol.unh.edu
dpdklab at iol.unh.edu
Thu Jul 14 16:34:37 CEST 2022
Test-Label: iol-aarch64-unit-testing
Test-Status: SUCCESS
http://dpdk.org/patch/113978
_Testing PASS_
Submitter: <abhimanyu.saini at xilinx.com>
Date: Thursday, July 14 2022 13:48:04
DPDK git baseline: Repo:dpdk
Branch: master
CommitID:b3c781dbdee047770c4165c742713fc849616930
113976-113978 --> testing pass
Test environment and result as below:
+-------------------------------+--------------+----------------+
| Environment | lpm_autotest | dpdk_unit_test |
+===============================+==============+================+
| Ubuntu 20.04 ARM SVE | PASS | SKIPPED |
+-------------------------------+--------------+----------------+
| Ubuntu 20.04 ARM Clang Native | SKIPPED | PASS |
+-------------------------------+--------------+----------------+
| Ubuntu 20.04 ARM GCC Native | SKIPPED | PASS |
+-------------------------------+--------------+----------------+
Ubuntu 20.04 ARM SVE
Kernel: 5.4.0-80-generic
Compiler: gcc 10.3.0 (Ubuntu 10.3.0-1ubuntu1~20.04)
Ubuntu 20.04 ARM Clang Native
Kernel: 5.4.0-53-generic
Compiler: clang 10.0.0-4ubuntu1
Ubuntu 20.04 ARM GCC Native
Kernel: 5.4.0-53-generic
Compiler: gcc 9.3
To view detailed results, visit:
https://lab.dpdk.org/results/dashboard/patchsets/23008/
UNH-IOL DPDK Community Lab
To manage your email subscriptions, visit:
https://lab.dpdk.org/results/dashboard/preferences/subscriptions/
More information about the test-report
mailing list