|SUCCESS| pw114213 [PATCH] [1/2] net/bonding: fix xmit l34 hash calculate for tcp
dpdklab at iol.unh.edu
dpdklab at iol.unh.edu
Tue Jul 26 10:01:05 CEST 2022
Test-Label: iol-x86_64-compile-testing
Test-Status: SUCCESS
http://dpdk.org/patch/114213
_Testing PASS_
Submitter: Jun Qiu <jun.qiu at jaguarmicro.com>
Date: Tuesday, July 26 2022 06:19:24
DPDK git baseline: Repo:dpdk
Branch: master
CommitID:72206323a5dd3182b13f61b25a64abdddfee595c
114213 --> testing pass
Test environment and result as below:
+---------------------+--------------------+----------------------+
| Environment | dpdk_meson_compile | dpdk_mingw64_compile |
+=====================+====================+======================+
| Ubuntu 18.04 | PASS | SKIPPED |
+---------------------+--------------------+----------------------+
| Windows Server 2019 | PASS | PASS |
+---------------------+--------------------+----------------------+
| openSUSE Leap 15 | PASS | SKIPPED |
+---------------------+--------------------+----------------------+
| CentOS Stream 8 | PASS | SKIPPED |
+---------------------+--------------------+----------------------+
| RHEL8 | PASS | SKIPPED |
+---------------------+--------------------+----------------------+
| Fedora 32 | PASS | SKIPPED |
+---------------------+--------------------+----------------------+
| FreeBSD 13 | PASS | SKIPPED |
+---------------------+--------------------+----------------------+
| Arch Linux | PASS | SKIPPED |
+---------------------+--------------------+----------------------+
| Fedora 31 | PASS | SKIPPED |
+---------------------+--------------------+----------------------+
| Ubuntu 20.04 | PASS | SKIPPED |
+---------------------+--------------------+----------------------+
| RHEL 7 | PASS | SKIPPED |
+---------------------+--------------------+----------------------+
| Fedora 34 | PASS | SKIPPED |
+---------------------+--------------------+----------------------+
| Fedora 33 | PASS | SKIPPED |
+---------------------+--------------------+----------------------+
| Fedora 34 clang | PASS | SKIPPED |
+---------------------+--------------------+----------------------+
Ubuntu 18.04
Kernel: 4.18.0-240.10.1.el8_3.x86_64
Compiler: gcc 7.5.0-3ubuntu1~18.04
Windows Server 2019
Kernel: 10.0
Compiler: clang 14.0 and gcc 8.1.0 (MinGW)
openSUSE Leap 15
Kernel: 4.18.0-240.10.1.el8_3.x86_64
Compiler: gcc 7.5.0
CentOS Stream 8
Kernel: 4.18.0-240.10.1.el8_3.x86_64
Compiler: gcc 8.4.1 20200928
RHEL8
Kernel: 4.18.0-240.10.1.el8_3.x86_64
Compiler: gcc 8.3.1 20191121 (Red Hat 8.3.1-5)
Fedora 32
Kernel: 4.18.0-240.10.1.el8_3.x86_64
Compiler: gcc 10.2.1
FreeBSD 13
Kernel: 13.0
Compiler: clang 11.0.1
Arch Linux
Kernel: 5.4.0-73-generic
Compiler: gcc 11.1.0
Fedora 31
Kernel: 4.18.0-240.10.1.el8_3.x86_64
Compiler: gcc 9.3.1
Ubuntu 20.04
Kernel: 4.18.0-240.10.1.el8_3.x86_64
Compiler: gcc 9.3.0-17ubuntu1~20.04
RHEL 7
Kernel: 4.18.0-240.10.1.el8_3.x86_64
Compiler: gcc 4.8.5 20150623 (Red Hat 4.8.5-44)
Fedora 34
Kernel: 5.4.0-72-generic
Compiler: gcc 11.1.1 20210428 (Red Hat 11.1.1-1)
Fedora 33
Kernel: 5.4.0-72-generic
Compiler: gcc 10.3.1 20210422 (Red Hat 10.3.1-1)
Fedora 34 clang
Kernel: 5.4.0-72-generic
Compiler: clang 12.0.0 (Fedora 12.0.0-0.3.rc1.fc34)
To view detailed results, visit:
https://lab.dpdk.org/results/dashboard/patchsets/23069/
UNH-IOL DPDK Community Lab
To manage your email subscriptions, visit:
https://lab.dpdk.org/results/dashboard/preferences/subscriptions/
More information about the test-report
mailing list