|SUCCESS| pw111969 [PATCH] net/ice: fix the outer l4 cksum flag when AVX is disabled
dpdklab at iol.unh.edu
dpdklab at iol.unh.edu
Fri Jun 3 22:35:34 CEST 2022
Test-Label: iol-abi-testing
Test-Status: SUCCESS
http://dpdk.org/patch/111969
_Testing PASS_
Submitter: Wenjing Qiao <wenjing.qiao at intel.com>
Date: Friday, May 27 2022 08:09:55
DPDK git baseline: Repo:dpdk
Branch: master
CommitID:64fcadeac0f70c8c9c215196a3d580b4ad37dcdc
111969 --> testing pass
Test environment and result as below:
+-----------------------------+----------+
| Environment | abi_test |
+=============================+==========+
| Ubuntu 20.04 ARM GCC Native | PASS |
+-----------------------------+----------+
| RHEL 7 | PASS |
+-----------------------------+----------+
| Ubuntu 18.04 | PASS |
+-----------------------------+----------+
| Ubuntu 20.04 | PASS |
+-----------------------------+----------+
| RHEL8 | PASS |
+-----------------------------+----------+
| CentOS Stream 8 | PASS |
+-----------------------------+----------+
| Fedora 32 | PASS |
+-----------------------------+----------+
| Fedora 31 | PASS |
+-----------------------------+----------+
| Fedora 34 | PASS |
+-----------------------------+----------+
| Arch Linux | PASS |
+-----------------------------+----------+
| openSUSE Leap 15 | PASS |
+-----------------------------+----------+
| Fedora 33 | PASS |
+-----------------------------+----------+
| Fedora 34 clang | PASS |
+-----------------------------+----------+
| Alpine | PASS |
+-----------------------------+----------+
Ubuntu 20.04 ARM GCC Native
Kernel: 5.4.0-53-generic
Compiler: gcc 9.3
RHEL 7
Kernel: 4.18.0-240.10.1.el8_3.x86_64
Compiler: gcc 4.8.5 20150623 (Red Hat 4.8.5-44)
Ubuntu 18.04
Kernel: 4.18.0-240.10.1.el8_3.x86_64
Compiler: gcc 7.5.0-3ubuntu1~18.04
Ubuntu 20.04
Kernel: 4.18.0-240.10.1.el8_3.x86_64
Compiler: gcc 9.3.0-17ubuntu1~20.04
RHEL8
Kernel: 4.18.0-240.10.1.el8_3.x86_64
Compiler: gcc 8.3.1 20191121 (Red Hat 8.3.1-5)
CentOS Stream 8
Kernel: 4.18.0-240.10.1.el8_3.x86_64
Compiler: gcc 8.4.1 20200928
Fedora 32
Kernel: 4.18.0-240.10.1.el8_3.x86_64
Compiler: gcc 10.2.1
Fedora 31
Kernel: 4.18.0-240.10.1.el8_3.x86_64
Compiler: gcc 9.3.1
Fedora 34
Kernel: 5.4.0-72-generic
Compiler: gcc 11.1.1 20210428 (Red Hat 11.1.1-1)
Arch Linux
Kernel: 5.4.0-73-generic
Compiler: gcc 11.1.0
openSUSE Leap 15
Kernel: 4.18.0-240.10.1.el8_3.x86_64
Compiler: gcc 7.5.0
Fedora 33
Kernel: 5.4.0-72-generic
Compiler: gcc 10.3.1 20210422 (Red Hat 10.3.1-1)
Fedora 34 clang
Kernel: 5.4.0-72-generic
Compiler: clang 12.0.0 (Fedora 12.0.0-0.3.rc1.fc34)
Alpine
Kernel: 5.4.0-73-generic
Compiler: gcc (Alpine 10.3.1_git20210424) 10.3.1 20210424
To view detailed results, visit:
https://lab.dpdk.org/results/dashboard/patchsets/22328/
UNH-IOL DPDK Community Lab
To manage your email subscriptions, visit:
https://lab.dpdk.org/results/dashboard/preferences/subscriptions/
More information about the test-report
mailing list