|SUCCESS| pw112195 [PATCH] [v4, 1/2] ethdev: fix one address occupies two indexes in MAC addrs

dpdklab at iol.unh.edu dpdklab at iol.unh.edu
Mon Jun 6 15:47:54 CEST 2022


Test-Label: iol-abi-testing
Test-Status: SUCCESS
http://dpdk.org/patch/112195

_Testing PASS_

Submitter: Min Hu (Connor) <humin29 at huawei.com>
Date: Wednesday, June 01 2022 06:39:48 
DPDK git baseline: Repo:dpdk
  Branch: master
  CommitID:f62212d39a1b5f1118dabbdfcbae1ac6394291a7

112195 --> testing pass

Test environment and result as below:

+-----------------------------+----------+
|         Environment         | abi_test |
+=============================+==========+
| RHEL8                       | PASS     |
+-----------------------------+----------+
| openSUSE Leap 15            | PASS     |
+-----------------------------+----------+
| Ubuntu 20.04 ARM GCC Native | PASS     |
+-----------------------------+----------+
| RHEL 7                      | PASS     |
+-----------------------------+----------+


RHEL8
	Kernel: 4.18.0-240.10.1.el8_3.x86_64
	Compiler: gcc 8.3.1 20191121 (Red Hat 8.3.1-5)

openSUSE Leap 15
	Kernel: 4.18.0-240.10.1.el8_3.x86_64
	Compiler: gcc 7.5.0

Ubuntu 20.04 ARM GCC Native
	Kernel: 5.4.0-53-generic
	Compiler: gcc 9.3

RHEL 7
	Kernel: 4.18.0-240.10.1.el8_3.x86_64
	Compiler: gcc 4.8.5 20150623 (Red Hat 4.8.5-44)

To view detailed results, visit:
https://lab.dpdk.org/results/dashboard/patchsets/22387/

UNH-IOL DPDK Community Lab

To manage your email subscriptions, visit: 
https://lab.dpdk.org/results/dashboard/preferences/subscriptions/


More information about the test-report mailing list