|SUCCESS| pw113325-113331 [PATCH] [v10, 7/7] doc/eth_tx: update instance get API
dpdklab at iol.unh.edu
dpdklab at iol.unh.edu
Thu Jun 23 12:12:44 CEST 2022
Test-Label: iol-aarch64-unit-testing
Test-Status: SUCCESS
http://dpdk.org/patch/113331
_Testing PASS_
Submitter: Ganapati Kundapura <ganapati.kundapura at intel.com>
Date: Thursday, June 23 2022 09:30:36
DPDK git baseline: Repo:dpdk
Branch: master
CommitID:69033e3b843c81c74bcdd5e678c896c1fe1535ef
113325-113331 --> testing pass
Test environment and result as below:
+-------------------------------+--------------+----------------+
| Environment | lpm_autotest | dpdk_unit_test |
+===============================+==============+================+
| Ubuntu 20.04 ARM SVE | PASS | SKIPPED |
+-------------------------------+--------------+----------------+
| Ubuntu 20.04 ARM GCC Native | SKIPPED | PASS |
+-------------------------------+--------------+----------------+
| Ubuntu 20.04 ARM Clang Native | SKIPPED | PASS |
+-------------------------------+--------------+----------------+
Ubuntu 20.04 ARM SVE
Kernel: 5.4.0-80-generic
Compiler: gcc 10.3.0 (Ubuntu 10.3.0-1ubuntu1~20.04)
Ubuntu 20.04 ARM GCC Native
Kernel: 5.4.0-53-generic
Compiler: gcc 9.3
Ubuntu 20.04 ARM Clang Native
Kernel: 5.4.0-53-generic
Compiler: clang 10.0.0-4ubuntu1
To view detailed results, visit:
https://lab.dpdk.org/results/dashboard/patchsets/22769/
UNH-IOL DPDK Community Lab
To manage your email subscriptions, visit:
https://lab.dpdk.org/results/dashboard/preferences/subscriptions/
More information about the test-report
mailing list