|SUCCESS| pw113219-113224 [PATCH] [v2, 7/7] net/ngbe: support YT PHY SGMII to RGMII mode

dpdklab at iol.unh.edu dpdklab at iol.unh.edu
Tue Jun 28 21:02:15 CEST 2022


Test-Label: iol-abi-testing
Test-Status: SUCCESS
http://dpdk.org/patch/113224

_Testing PASS_

Submitter: Jiawen Wu <jiawenwu at trustnetic.com>
Date: Wednesday, June 22 2022 06:56:13 
DPDK git baseline: Repo:dpdk
  Branch: master
  CommitID:9aa95b6fc4d0f166f8364f60c476f52dfcbe1082

113219-113224 --> testing pass

Test environment and result as below:

+-----------------------------+----------+
|         Environment         | abi_test |
+=============================+==========+
| Ubuntu 20.04 ARM GCC Native | PASS     |
+-----------------------------+----------+
| RHEL 7                      | PASS     |
+-----------------------------+----------+
| RHEL8                       | PASS     |
+-----------------------------+----------+
| Arch Linux                  | PASS     |
+-----------------------------+----------+
| Ubuntu 20.04                | PASS     |
+-----------------------------+----------+


Ubuntu 20.04 ARM GCC Native
	Kernel: 5.4.0-53-generic
	Compiler: gcc 9.3

RHEL 7
	Kernel: 4.18.0-240.10.1.el8_3.x86_64
	Compiler: gcc 4.8.5 20150623 (Red Hat 4.8.5-44)

RHEL8
	Kernel: 4.18.0-240.10.1.el8_3.x86_64
	Compiler: gcc 8.3.1 20191121 (Red Hat 8.3.1-5)

Arch Linux
	Kernel: 5.4.0-73-generic
	Compiler: gcc 11.1.0

Ubuntu 20.04
	Kernel: 4.18.0-240.10.1.el8_3.x86_64
	Compiler: gcc 9.3.0-17ubuntu1~20.04

To view detailed results, visit:
https://lab.dpdk.org/results/dashboard/patchsets/22740/

UNH-IOL DPDK Community Lab

To manage your email subscriptions, visit: 
https://lab.dpdk.org/results/dashboard/preferences/subscriptions/


More information about the test-report mailing list