|SUCCESS| pw110563 [PATCH] eal: allow worker lcore stacks to be allocated from hugepage memory

dpdklab at iol.unh.edu dpdklab at iol.unh.edu
Mon May 2 19:24:19 CEST 2022


Test-Label: iol-x86_64-unit-testing
Test-Status: SUCCESS
http://dpdk.org/patch/110563

_Testing PASS_

Submitter: Don Wallwork <donw at xsightlabs.com>
Date: Monday, May 02 2022 14:10:58 
DPDK git baseline: Repo:dpdk
  Branch: master
  CommitID:90bf3f89ed33f78e9f41818caf123e13e508dee7

110563 --> testing pass

Test environment and result as below:

+------------------+----------------+
|   Environment    | dpdk_unit_test |
+==================+================+
| Fedora 33        | PASS           |
+------------------+----------------+
| Ubuntu 18.04     | PASS           |
+------------------+----------------+
| openSUSE Leap 15 | PASS           |
+------------------+----------------+
| Fedora 34        | PASS           |
+------------------+----------------+
| CentOS Stream 8  | PASS           |
+------------------+----------------+


Fedora 33
	Kernel: 5.4.0-72-generic
	Compiler: gcc 10.3.1 20210422 (Red Hat 10.3.1-1)

Ubuntu 18.04
	Kernel: 4.18.0-240.10.1.el8_3.x86_64
	Compiler: gcc 7.5.0-3ubuntu1~18.04

openSUSE Leap 15
	Kernel: 4.18.0-240.10.1.el8_3.x86_64
	Compiler: gcc 7.5.0

Fedora 34
	Kernel: 5.4.0-72-generic
	Compiler: gcc 11.1.1 20210428 (Red Hat 11.1.1-1)

CentOS Stream 8
	Kernel: 4.18.0-240.10.1.el8_3.x86_64
	Compiler: gcc 8.4.1 20200928

To view detailed results, visit:
https://lab.dpdk.org/results/dashboard/patchsets/21981/

UNH-IOL DPDK Community Lab

To manage your email subscriptions, visit: 
https://lab.dpdk.org/results/dashboard/preferences/subscriptions/


More information about the test-report mailing list