|SUCCESS| pw110740-110750 [PATCH] [11/11] test/hash: report non HTM numbers for single r/w
dpdklab at iol.unh.edu
dpdklab at iol.unh.edu
Thu May 5 22:40:53 CEST 2022
Test-Label: iol-aarch64-unit-testing
Test-Status: SUCCESS
http://dpdk.org/patch/110750
_Testing PASS_
Submitter: Stanisław Kardach <kda at semihalf.com>
Date: Thursday, May 05 2022 17:30:03
DPDK git baseline: Repo:dpdk
Branch: master
CommitID:90bf3f89ed33f78e9f41818caf123e13e508dee7
110740-110750 --> testing pass
Test environment and result as below:
+-------------------------------+----------------+--------------+
| Environment | dpdk_unit_test | lpm_autotest |
+===============================+================+==============+
| Ubuntu 20.04 ARM Clang Native | PASS | SKIPPED |
+-------------------------------+----------------+--------------+
| Ubuntu 20.04 ARM GCC Native | PASS | SKIPPED |
+-------------------------------+----------------+--------------+
| Ubuntu 20.04 ARM SVE | SKIPPED | PASS |
+-------------------------------+----------------+--------------+
Ubuntu 20.04 ARM Clang Native
Kernel: 5.4.0-53-generic
Compiler: clang 10.0.0-4ubuntu1
Ubuntu 20.04 ARM GCC Native
Kernel: 5.4.0-53-generic
Compiler: gcc 9.3
Ubuntu 20.04 ARM SVE
Kernel: 5.4.0-80-generic
Compiler: gcc 10.3.0 (Ubuntu 10.3.0-1ubuntu1~20.04)
To view detailed results, visit:
https://lab.dpdk.org/results/dashboard/patchsets/22014/
UNH-IOL DPDK Community Lab
To manage your email subscriptions, visit:
https://lab.dpdk.org/results/dashboard/preferences/subscriptions/
More information about the test-report
mailing list