|SUCCESS| pw111006 [PATCH] app/testpmd: perform SW IP checksum for GRO packets
dpdklab at iol.unh.edu
dpdklab at iol.unh.edu
Wed May 11 04:42:59 CEST 2022
Test-Label: iol-abi-testing
Test-Status: SUCCESS
http://dpdk.org/patch/111006
_Testing PASS_
Submitter: Wenwu Ma <wenwux.ma at intel.com>
Date: Wednesday, May 11 2022 01:37:05
DPDK git baseline: Repo:dpdk
Branch: master
CommitID:36db4a1ad46448a2610133b021677ce6a0e0534e
111006 --> testing pass
Test environment and result as below:
+------------------+----------+
| Environment | abi_test |
+==================+==========+
| Ubuntu 20.04 | PASS |
+------------------+----------+
| RHEL 7 | PASS |
+------------------+----------+
| Ubuntu 18.04 | PASS |
+------------------+----------+
| openSUSE Leap 15 | PASS |
+------------------+----------+
| RHEL8 | PASS |
+------------------+----------+
| Fedora 32 | PASS |
+------------------+----------+
| Fedora 31 | PASS |
+------------------+----------+
| Fedora 34 | PASS |
+------------------+----------+
| Fedora 33 | PASS |
+------------------+----------+
| CentOS Stream 8 | PASS |
+------------------+----------+
| Arch Linux | PASS |
+------------------+----------+
| Fedora 34 clang | PASS |
+------------------+----------+
Ubuntu 20.04
Kernel: 4.18.0-240.10.1.el8_3.x86_64
Compiler: gcc 9.3.0-17ubuntu1~20.04
RHEL 7
Kernel: 4.18.0-240.10.1.el8_3.x86_64
Compiler: gcc 4.8.5 20150623 (Red Hat 4.8.5-44)
Ubuntu 18.04
Kernel: 4.18.0-240.10.1.el8_3.x86_64
Compiler: gcc 7.5.0-3ubuntu1~18.04
openSUSE Leap 15
Kernel: 4.18.0-240.10.1.el8_3.x86_64
Compiler: gcc 7.5.0
RHEL8
Kernel: 4.18.0-240.10.1.el8_3.x86_64
Compiler: gcc 8.3.1 20191121 (Red Hat 8.3.1-5)
Fedora 32
Kernel: 4.18.0-240.10.1.el8_3.x86_64
Compiler: gcc 10.2.1
Fedora 31
Kernel: 4.18.0-240.10.1.el8_3.x86_64
Compiler: gcc 9.3.1
Fedora 34
Kernel: 5.4.0-72-generic
Compiler: gcc 11.1.1 20210428 (Red Hat 11.1.1-1)
Fedora 33
Kernel: 5.4.0-72-generic
Compiler: gcc 10.3.1 20210422 (Red Hat 10.3.1-1)
CentOS Stream 8
Kernel: 4.18.0-240.10.1.el8_3.x86_64
Compiler: gcc 8.4.1 20200928
Arch Linux
Kernel: 5.4.0-73-generic
Compiler: gcc 11.1.0
Fedora 34 clang
Kernel: 5.4.0-72-generic
Compiler: clang 12.0.0 (Fedora 12.0.0-0.3.rc1.fc34)
To view detailed results, visit:
https://lab.dpdk.org/results/dashboard/patchsets/22067/
UNH-IOL DPDK Community Lab
To manage your email subscriptions, visit:
https://lab.dpdk.org/results/dashboard/preferences/subscriptions/
More information about the test-report
mailing list