|SUCCESS| pw119953-119963 [PATCH] [11/11] test/event: fix build with clang 15
dpdklab at iol.unh.edu
dpdklab at iol.unh.edu
Fri Nov 18 11:42:40 CET 2022
Test-Label: iol-aarch64-unit-testing
Test-Status: SUCCESS
http://dpdk.org/patch/119963
_Testing PASS_
Submitter: David Marchand <david.marchand at redhat.com>
Date: Friday, November 18 2022 08:53:13
DPDK git baseline: Repo:dpdk
Branch: master
CommitID:903ec2b1b49e496815c016b0104fd655cd972661
119953-119963 --> testing pass
Test environment and result as below:
+-------------------------------+----------------+--------------+
| Environment | dpdk_unit_test | lpm_autotest |
+===============================+================+==============+
| Ubuntu 20.04 ARM GCC Native | PASS | SKIPPED |
+-------------------------------+----------------+--------------+
| Ubuntu 20.04 ARM Clang Native | PASS | SKIPPED |
+-------------------------------+----------------+--------------+
| Ubuntu 20.04 ARM SVE | SKIPPED | PASS |
+-------------------------------+----------------+--------------+
Ubuntu 20.04 ARM GCC Native
Kernel: 5.4.0-53-generic
Compiler: gcc 9.3
Ubuntu 20.04 ARM Clang Native
Kernel: 5.4.0-53-generic
Compiler: clang 10.0.0-4ubuntu1
Ubuntu 20.04 ARM SVE
Kernel: 5.4.0-80-generic
Compiler: gcc 10.3.0 (Ubuntu 10.3.0-1ubuntu1~20.04)
To view detailed results, visit:
https://lab.dpdk.org/results/dashboard/patchsets/24522/
UNH-IOL DPDK Community Lab
To manage your email subscriptions, visit:
https://lab.dpdk.org/results/dashboard/preferences/subscriptions/
More information about the test-report
mailing list