|SUCCESS| [GIT MASTER] bd9e9d22ef03928bde6f7887172359953dfc0432

dpdklab at iol.unh.edu dpdklab at iol.unh.edu
Mon Nov 28 22:48:49 CET 2022


_Testing PASS_

Branch: 21.11-staging

bd9e9d22ef03928bde6f7887172359953dfc0432 --> testing pass

Test environment and result as below:

+-------------------------------+--------------------+----------------+----------------------+
|          Environment          | dpdk_meson_compile | dpdk_unit_test | dpdk_mingw64_compile |
+===============================+====================+================+======================+
| FreeBSD 13                    | PASS               | SKIPPED        | SKIPPED              |
+-------------------------------+--------------------+----------------+----------------------+
| Ubuntu 20.04 ARM Clang Native | PASS               | PASS           | SKIPPED              |
+-------------------------------+--------------------+----------------+----------------------+
| Windows Server 2019           | PASS               | PASS           | PASS                 |
+-------------------------------+--------------------+----------------+----------------------+
| Ubuntu 20.04 ARM GCC Native   | PASS               | PASS           | SKIPPED              |
+-------------------------------+--------------------+----------------+----------------------+
| CentOS Stream 8               | PASS               | PASS           | SKIPPED              |
+-------------------------------+--------------------+----------------+----------------------+
| CentOS Stream 9               | SKIPPED            | PASS           | SKIPPED              |
+-------------------------------+--------------------+----------------+----------------------+


FreeBSD 13
	Kernel: 13.0
	Compiler: clang 11.0.1

Ubuntu 20.04 ARM Clang Native
	Kernel: 5.4.0-53-generic
	Compiler: clang 10.0.0-4ubuntu1

Windows Server 2019
	Kernel: 10.0
	Compiler: clang 14.0 and gcc 8.1.0 (MinGW)

Ubuntu 20.04 ARM GCC Native
	Kernel: 5.4.0-53-generic
	Compiler: gcc 9.3

CentOS Stream 8
	Kernel: 4.18.0-240.10.1.el8_3.x86_64
	Compiler: gcc 8.4.1 20200928

CentOS Stream 9
	Kernel: 4.18.0-240.10.1.el8_3.x86_64
	Compiler: gcc 11.3.1 20220421

To view detailed results, visit:
https://lab.dpdk.org/results/dashboard/tarballs/22455/

UNH-IOL DPDK Community Lab

To manage your email subscriptions, visit: 
https://lab.dpdk.org/results/dashboard/preferences/subscriptions/


More information about the test-report mailing list