|SUCCESS| [GIT MASTER] 849770ce78a1b1a4871871feafbfcd9c204ea625

dpdklab at iol.unh.edu dpdklab at iol.unh.edu
Tue Nov 29 07:36:34 CET 2022


_Testing PASS_

Branch: tags/v20.11

849770ce78a1b1a4871871feafbfcd9c204ea625 --> testing pass

Test environment and result as below:

+------------------------------------+--------------------+----------------+
|            Environment             | dpdk_meson_compile | dpdk_unit_test |
+====================================+====================+================+
| Ubuntu 20.04 ARM GCC Cross Compile | PASS               | SKIPPED        |
+------------------------------------+--------------------+----------------+
| Ubuntu 20.04 ARM GCC Native        | PASS               | PASS           |
+------------------------------------+--------------------+----------------+
| Ubuntu 20.04 ARM Clang Native      | PASS               | PASS           |
+------------------------------------+--------------------+----------------+
| CentOS Stream 8                    | SKIPPED            | PASS           |
+------------------------------------+--------------------+----------------+


Ubuntu 20.04 ARM GCC Cross Compile
	Kernel: 5.4.0-72-generic
	Compiler: aarch64-linux-gnu-gcc (Ubuntu 9.3.0-17ubuntu1~20.04) 9.3.0

Ubuntu 20.04 ARM GCC Native
	Kernel: 5.4.0-53-generic
	Compiler: gcc 9.3

Ubuntu 20.04 ARM Clang Native
	Kernel: 5.4.0-53-generic
	Compiler: clang 10.0.0-4ubuntu1

CentOS Stream 8
	Kernel: 4.18.0-240.10.1.el8_3.x86_64
	Compiler: gcc 8.4.1 20200928

To view detailed results, visit:
https://lab.dpdk.org/results/dashboard/tarballs/22460/

UNH-IOL DPDK Community Lab

To manage your email subscriptions, visit: 
https://lab.dpdk.org/results/dashboard/preferences/subscriptions/


More information about the test-report mailing list