|SUCCESS| pw120273 [PATCH] devtools: fix name check with mbox files

dpdklab at iol.unh.edu dpdklab at iol.unh.edu
Tue Nov 29 15:47:52 CET 2022


Test-Label: iol-testing
Test-Status: SUCCESS
http://dpdk.org/patch/120273

_Testing PASS_

Submitter: David Marchand <david.marchand at redhat.com>
Date: Tuesday, November 29 2022 13:59:00 
DPDK git baseline: Repo:dpdk
  Branch: master
  CommitID:f262f16087ea6a77357a915cf4c0d10ddc7b6562

120273 --> testing pass

Test environment and result as below:

+----------------------------------------+--------------------+----------------+----------------------+
|              Environment               | dpdk_meson_compile | dpdk_unit_test | dpdk_mingw64_compile |
+========================================+====================+================+======================+
| FreeBSD 13                             | PASS               | SKIPPED        | SKIPPED              |
+----------------------------------------+--------------------+----------------+----------------------+
| Ubuntu 20.04 ARM GCC Native            | PASS               | SKIPPED        | SKIPPED              |
+----------------------------------------+--------------------+----------------+----------------------+
| Ubuntu 20.04 ARM Clang Native          | PASS               | SKIPPED        | SKIPPED              |
+----------------------------------------+--------------------+----------------+----------------------+
| Windows Server 2019                    | PASS               | PASS           | PASS                 |
+----------------------------------------+--------------------+----------------+----------------------+
| Ubuntu 20.04 aarch32 GCC Cross Compile | PASS               | SKIPPED        | SKIPPED              |
+----------------------------------------+--------------------+----------------+----------------------+
| CentOS Stream 8                        | SKIPPED            | PASS           | SKIPPED              |
+----------------------------------------+--------------------+----------------+----------------------+


FreeBSD 13
	Kernel: 13.0
	Compiler: clang 11.0.1

Ubuntu 20.04 ARM GCC Native
	Kernel: 5.4.0-53-generic
	Compiler: gcc 9.3

Ubuntu 20.04 ARM Clang Native
	Kernel: 5.4.0-53-generic
	Compiler: clang 10.0.0-4ubuntu1

Windows Server 2019
	Kernel: 10.0
	Compiler: clang 14.0 and gcc 8.1.0 (MinGW)

Ubuntu 20.04 aarch32 GCC Cross Compile
	Kernel: 5.4.0-72-generic
	Compiler: gcc 9.3.0

CentOS Stream 8
	Kernel: 4.18.0-240.10.1.el8_3.x86_64
	Compiler: gcc 8.4.1 20200928

To view detailed results, visit:
https://lab.dpdk.org/results/dashboard/patchsets/24587/

UNH-IOL DPDK Community Lab

To manage your email subscriptions, visit: 
https://lab.dpdk.org/results/dashboard/preferences/subscriptions/


More information about the test-report mailing list