|SUCCESS| pw120288-120291 [PATCH] [v3, 4/4] testpmd: report lcore usage

dpdklab at iol.unh.edu dpdklab at iol.unh.edu
Tue Nov 29 20:11:51 CET 2022


Test-Label: iol-testing
Test-Status: SUCCESS
http://dpdk.org/patch/120291

_Testing PASS_

Submitter: Robin Jarry <rjarry at redhat.com>
Date: Tuesday, November 29 2022 15:33:29 
DPDK git baseline: Repo:dpdk
  Branch: master
  CommitID:f262f16087ea6a77357a915cf4c0d10ddc7b6562

120288-120291 --> testing pass

Test environment and result as below:

+----------------------------------------+--------------------+----------------+----------------------+
|              Environment               | dpdk_meson_compile | dpdk_unit_test | dpdk_mingw64_compile |
+========================================+====================+================+======================+
| Ubuntu 20.04 ARM GCC Native            | PASS               | PASS           | SKIPPED              |
+----------------------------------------+--------------------+----------------+----------------------+
| Ubuntu 20.04 ARM Clang Native          | PASS               | PASS           | SKIPPED              |
+----------------------------------------+--------------------+----------------+----------------------+
| Ubuntu 20.04 aarch32 GCC Cross Compile | PASS               | SKIPPED        | SKIPPED              |
+----------------------------------------+--------------------+----------------+----------------------+
| Ubuntu 20.04 ARM Clang Cross Compile   | PASS               | SKIPPED        | SKIPPED              |
+----------------------------------------+--------------------+----------------+----------------------+
| Ubuntu 20.04 ARM GCC Cross Compile     | PASS               | SKIPPED        | SKIPPED              |
+----------------------------------------+--------------------+----------------+----------------------+
| Ubuntu 20.04 ARM SVE                   | PASS               | SKIPPED        | SKIPPED              |
+----------------------------------------+--------------------+----------------+----------------------+
| FreeBSD 13                             | PASS               | SKIPPED        | SKIPPED              |
+----------------------------------------+--------------------+----------------+----------------------+
| Windows Server 2019                    | PASS               | PASS           | PASS                 |
+----------------------------------------+--------------------+----------------+----------------------+
| CentOS Stream 8                        | PASS               | PASS           | SKIPPED              |
+----------------------------------------+--------------------+----------------+----------------------+
| CentOS Stream 9                        | SKIPPED            | PASS           | SKIPPED              |
+----------------------------------------+--------------------+----------------+----------------------+
| Debian Buster                          | SKIPPED            | PASS           | SKIPPED              |
+----------------------------------------+--------------------+----------------+----------------------+


Ubuntu 20.04 ARM GCC Native
	Kernel: 5.4.0-53-generic
	Compiler: gcc 9.3

Ubuntu 20.04 ARM Clang Native
	Kernel: 5.4.0-53-generic
	Compiler: clang 10.0.0-4ubuntu1

Ubuntu 20.04 aarch32 GCC Cross Compile
	Kernel: 5.4.0-72-generic
	Compiler: gcc 9.3.0

Ubuntu 20.04 ARM Clang Cross Compile
	Kernel: 5.4.0-72-generic
	Compiler: clang version 10.0.0-4ubuntu1

Ubuntu 20.04 ARM GCC Cross Compile
	Kernel: 5.4.0-72-generic
	Compiler: aarch64-linux-gnu-gcc (Ubuntu 9.3.0-17ubuntu1~20.04) 9.3.0

Ubuntu 20.04 ARM SVE
	Kernel: 5.4.0-80-generic
	Compiler: gcc 10.3.0 (Ubuntu 10.3.0-1ubuntu1~20.04)

FreeBSD 13
	Kernel: 13.0
	Compiler: clang 11.0.1

Windows Server 2019
	Kernel: 10.0
	Compiler: clang 14.0 and gcc 8.1.0 (MinGW)

CentOS Stream 8
	Kernel: 4.18.0-240.10.1.el8_3.x86_64
	Compiler: gcc 8.4.1 20200928

CentOS Stream 9
	Kernel: 4.18.0-240.10.1.el8_3.x86_64
	Compiler: gcc 11.3.1 20220421

Debian Buster
	Kernel: 5.4.0-122-generic
	Compiler: gcc 8.3.0-6

To view detailed results, visit:
https://lab.dpdk.org/results/dashboard/patchsets/24595/

UNH-IOL DPDK Community Lab

To manage your email subscriptions, visit: 
https://lab.dpdk.org/results/dashboard/preferences/subscriptions/


More information about the test-report mailing list