|SUCCESS| pw117547 [PATCH] [v2] regexdev: add maximum number of mbuf segments field
dpdklab at iol.unh.edu
dpdklab at iol.unh.edu
Fri Oct 7 10:38:03 CEST 2022
Test-Label: iol-aarch64-unit-testing
Test-Status: SUCCESS
http://dpdk.org/patch/117547
_Testing PASS_
Submitter: Gerry Gribbon <ggribbon at nvidia.com>
Date: Friday, October 07 2022 08:04:22
DPDK git baseline: Repo:dpdk
Branch: master
CommitID:e6fde5e04833569efef8f5be6ba12eb64d74b7b6
117547 --> testing pass
Test environment and result as below:
+-------------------------------+--------------+----------------+
| Environment | lpm_autotest | dpdk_unit_test |
+===============================+==============+================+
| Ubuntu 20.04 ARM SVE | PASS | SKIPPED |
+-------------------------------+--------------+----------------+
| Ubuntu 20.04 ARM GCC Native | SKIPPED | PASS |
+-------------------------------+--------------+----------------+
| Ubuntu 20.04 ARM Clang Native | SKIPPED | PASS |
+-------------------------------+--------------+----------------+
Ubuntu 20.04 ARM SVE
Kernel: 5.4.0-80-generic
Compiler: gcc 10.3.0 (Ubuntu 10.3.0-1ubuntu1~20.04)
Ubuntu 20.04 ARM GCC Native
Kernel: 5.4.0-53-generic
Compiler: gcc 9.3
Ubuntu 20.04 ARM Clang Native
Kernel: 5.4.0-53-generic
Compiler: clang 10.0.0-4ubuntu1
To view detailed results, visit:
https://lab.dpdk.org/results/dashboard/patchsets/23817/
UNH-IOL DPDK Community Lab
To manage your email subscriptions, visit:
https://lab.dpdk.org/results/dashboard/preferences/subscriptions/
More information about the test-report
mailing list