|SUCCESS| pw125730 [PATCH] [v3] telemetry: use portable syntax to initialize array
dpdklab at iol.unh.edu
dpdklab at iol.unh.edu
Mon Apr 3 22:06:33 CEST 2023
Test-Label: iol-unit-testing
Test-Status: SUCCESS
http://dpdk.org/patch/125730
_Testing PASS_
Submitter: Tyler Retzlaff <roretzla at linux.microsoft.com>
Date: Monday, April 03 2023 18:59:25
DPDK git baseline: Repo:dpdk
Branch: master
CommitID:c682c8991963be243dcc3b7cdc9d6984a1961f4e
125730 --> testing pass
Test environment and result as below:
+--------------------+----------------+
| Environment | dpdk_unit_test |
+====================+================+
| Ubuntu 22.04 | PASS |
+--------------------+----------------+
| Debian Bullseye | PASS |
+--------------------+----------------+
| CentOS Stream 9 | PASS |
+--------------------+----------------+
| Debian 11 (Buster) | PASS |
+--------------------+----------------+
| Ubuntu 20.04 | PASS |
+--------------------+----------------+
| CentOS Stream 8 | PASS |
+--------------------+----------------+
| RHEL 7 | PASS |
+--------------------+----------------+
| RHEL8 | PASS |
+--------------------+----------------+
| Ubuntu 20.04 (ARM) | PASS |
+--------------------+----------------+
| Debian Buster | PASS |
+--------------------+----------------+
| openSUSE Leap 15 | PASS |
+--------------------+----------------+
| Fedora 36 | PASS |
+--------------------+----------------+
Ubuntu 22.04
Kernel: Container Host Kernel
Compiler: gcc 11.3.1-2
Debian Bullseye
Kernel: 5.4.0-122-generic
Compiler: gcc 10.2.1-6
CentOS Stream 9
Kernel: 4.18.0-240.10.1.el8_3.x86_64
Compiler: gcc 11.3.1 20220421
Debian 11 (Buster)
Kernel: Container Host Kernel
Compiler: gcc 10.2.1
Ubuntu 20.04
Kernel: 4.18.0-240.10.1.el8_3.x86_64
Compiler: gcc 9.3.0-17ubuntu1~20.04
CentOS Stream 8
Kernel: 4.18.0-240.10.1.el8_3.x86_64
Compiler: gcc 8.4.1 20200928
RHEL 7
Kernel: 4.18.0-240.10.1.el8_3.x86_64
Compiler: gcc 4.8.5 20150623 (Red Hat 4.8.5-44)
RHEL8
Kernel: 4.18.0-240.10.1.el8_3.x86_64
Compiler: gcc 8.3.1 20191121 (Red Hat 8.3.1-5)
Ubuntu 20.04 (ARM)
Kernel: Container Host Kernel
Compiler: gcc 9.4.0
Debian Buster
Kernel: 5.4.0-122-generic
Compiler: gcc 8.3.0-6
openSUSE Leap 15
Kernel: 4.18.0-240.10.1.el8_3.x86_64
Compiler: gcc 7.5.0
Fedora 36
Kernel: Container Host Kernel
Compiler: gcc 12.2.1
To view detailed results, visit:
https://lab.dpdk.org/results/dashboard/patchsets/25910/
UNH-IOL DPDK Community Lab
To manage your email subscriptions, visit:
https://lab.dpdk.org/results/dashboard/preferences/subscriptions/
More information about the test-report
mailing list