|SUCCESS| pw125787-125792 [PATCH] [v2, 9/9] telemetry: avoid expanding versioned symbol macros on msvc
dpdklab at iol.unh.edu
dpdklab at iol.unh.edu
Tue Apr 4 23:40:57 CEST 2023
Test-Label: iol-unit-testing
Test-Status: SUCCESS
http://dpdk.org/patch/125792
_Testing PASS_
Submitter: Tyler Retzlaff <roretzla at linux.microsoft.com>
Date: Tuesday, April 04 2023 20:07:27
DPDK git baseline: Repo:dpdk
Branch: master
CommitID:c682c8991963be243dcc3b7cdc9d6984a1961f4e
125787-125792 --> testing pass
Test environment and result as below:
+------------------+----------------+
| Environment | dpdk_unit_test |
+==================+================+
| CentOS Stream 8 | PASS |
+------------------+----------------+
| CentOS Stream 9 | PASS |
+------------------+----------------+
| Debian Buster | PASS |
+------------------+----------------+
| Ubuntu 22.04 | PASS |
+------------------+----------------+
| openSUSE Leap 15 | PASS |
+------------------+----------------+
| Ubuntu 20.04 | PASS |
+------------------+----------------+
| Debian Bullseye | PASS |
+------------------+----------------+
| RHEL 7 | PASS |
+------------------+----------------+
| RHEL8 | PASS |
+------------------+----------------+
CentOS Stream 8
Kernel: 4.18.0-240.10.1.el8_3.x86_64
Compiler: gcc 8.4.1 20200928
CentOS Stream 9
Kernel: 4.18.0-240.10.1.el8_3.x86_64
Compiler: gcc 11.3.1 20220421
Debian Buster
Kernel: 5.4.0-122-generic
Compiler: gcc 8.3.0-6
Ubuntu 22.04
Kernel: Container Host Kernel
Compiler: gcc 11.3.1-2
openSUSE Leap 15
Kernel: 4.18.0-240.10.1.el8_3.x86_64
Compiler: gcc 7.5.0
Ubuntu 20.04
Kernel: 4.18.0-240.10.1.el8_3.x86_64
Compiler: gcc 9.3.0-17ubuntu1~20.04
Debian Bullseye
Kernel: 5.4.0-122-generic
Compiler: gcc 10.2.1-6
RHEL 7
Kernel: 4.18.0-240.10.1.el8_3.x86_64
Compiler: gcc 4.8.5 20150623 (Red Hat 4.8.5-44)
RHEL8
Kernel: 4.18.0-240.10.1.el8_3.x86_64
Compiler: gcc 8.3.1 20191121 (Red Hat 8.3.1-5)
To view detailed results, visit:
https://lab.dpdk.org/results/dashboard/patchsets/25921/
UNH-IOL DPDK Community Lab
To manage your email subscriptions, visit:
https://lab.dpdk.org/results/dashboard/preferences/subscriptions/
More information about the test-report
mailing list