|SUCCESS| pw125798-125800 [PATCH] [v2, 3/3] vhost: add device op to offload the interrupt kick
dpdklab at iol.unh.edu
dpdklab at iol.unh.edu
Wed Apr 5 15:40:02 CEST 2023
Test-Label: iol-aarch64-unit-testing
Test-Status: SUCCESS
http://dpdk.org/patch/125800
_Testing PASS_
Submitter: Eelco Chaudron <echaudro at redhat.com>
Date: Wednesday, April 05 2023 12:41:57
DPDK git baseline: Repo:dpdk
Branch: master
CommitID:c682c8991963be243dcc3b7cdc9d6984a1961f4e
125798-125800 --> testing pass
Test environment and result as below:
+----------------------+--------------+---------------------------+------------------------------+
| Environment | lpm_autotest | cryptodev_sw_zuc_autotest | cryptodev_sw_snow3g_autotest |
+======================+==============+===========================+==============================+
| Ubuntu 20.04 ARM SVE | PASS | SKIPPED | SKIPPED |
+----------------------+--------------+---------------------------+------------------------------+
| Debian 11 | SKIPPED | PASS | PASS |
+----------------------+--------------+---------------------------+------------------------------+
Ubuntu 20.04 ARM SVE
Kernel: 5.4.0-80-generic
Compiler: gcc 10.3.0 (Ubuntu 10.3.0-1ubuntu1~20.04)
Debian 11
Kernel: Container Host Kernel
Compiler: gcc 10.2.1
To view detailed results, visit:
https://lab.dpdk.org/results/dashboard/patchsets/25925/
UNH-IOL DPDK Community Lab
To manage your email subscriptions, visit:
https://lab.dpdk.org/results/dashboard/preferences/subscriptions/
More information about the test-report
mailing list