|SUCCESS| pw125648 [PATCH] [v1] doc: update release notes for 23.03
dpdklab at iol.unh.edu
dpdklab at iol.unh.edu
Thu Apr 6 11:44:54 CEST 2023
Test-Label: iol-abi-testing
Test-Status: SUCCESS
http://dpdk.org/patch/125648
_Testing PASS_
Submitter: John McNamara <john.mcnamara at intel.com>
Date: Thursday, March 30 2023 16:09:05
DPDK git baseline: Repo:dpdk
Branch: master
CommitID:c682c8991963be243dcc3b7cdc9d6984a1961f4e
125648 --> testing pass
Test environment and result as below:
+-----------------+----------+
| Environment | abi_test |
+=================+==========+
| CentOS Stream 9 | PASS |
+-----------------+----------+
| Debian Buster | PASS |
+-----------------+----------+
| Ubuntu 22.04 | PASS |
+-----------------+----------+
| Debian Bullseye | PASS |
+-----------------+----------+
| RHEL8 | PASS |
+-----------------+----------+
| CentOS Stream 8 | PASS |
+-----------------+----------+
| RHEL 7 | PASS |
+-----------------+----------+
CentOS Stream 9
Kernel: 4.18.0-240.10.1.el8_3.x86_64
Compiler: gcc 11.3.1 20220421
Debian Buster
Kernel: 5.4.0-122-generic
Compiler: gcc 8.3.0-6
Ubuntu 22.04
Kernel: Container Host Kernel
Compiler: gcc 11.3.1-2
Debian Bullseye
Kernel: 5.4.0-122-generic
Compiler: gcc 10.2.1-6
RHEL8
Kernel: 4.18.0-240.10.1.el8_3.x86_64
Compiler: gcc 8.3.1 20191121 (Red Hat 8.3.1-5)
CentOS Stream 8
Kernel: 4.18.0-240.10.1.el8_3.x86_64
Compiler: gcc 8.4.1 20200928
RHEL 7
Kernel: 4.18.0-240.10.1.el8_3.x86_64
Compiler: gcc 4.8.5 20150623 (Red Hat 4.8.5-44)
To view detailed results, visit:
https://lab.dpdk.org/results/dashboard/patchsets/25891/
UNH-IOL DPDK Community Lab
To manage your email subscriptions, visit:
https://lab.dpdk.org/results/dashboard/preferences/subscriptions/
More information about the test-report
mailing list