|SUCCESS| pw125850-125855 [PATCH] [6/6] config/arm: add AMD CDX

dpdklab at iol.unh.edu dpdklab at iol.unh.edu
Fri Apr 7 09:30:55 CEST 2023


Test-Label: iol-unit-testing
Test-Status: SUCCESS
http://dpdk.org/patch/125855

_Testing PASS_

Submitter: Nipun Gupta <nipun.gupta at amd.com>
Date: Friday, April 07 2023 06:01:52 
DPDK git baseline: Repo:dpdk
  Branch: master
  CommitID:65487b12db83c9ef37526a983c43191cd44dae99

125850-125855 --> testing pass

Test environment and result as below:

+--------------------+----------------+
|    Environment     | dpdk_unit_test |
+====================+================+
| Fedora 36          | PASS           |
+--------------------+----------------+
| CentOS Stream 9    | PASS           |
+--------------------+----------------+
| CentOS Stream 8    | PASS           |
+--------------------+----------------+
| Debian 11 (Buster) | PASS           |
+--------------------+----------------+
| Ubuntu 20.04 (ARM) | PASS           |
+--------------------+----------------+


Fedora 36
	Kernel: Container Host Kernel
	Compiler: clang 14.0.5

CentOS Stream 9
	Kernel: Container Host Kernel
	Compiler: gcc 11.3.1

CentOS Stream 8
	Kernel: 4.18.0-240.10.1.el8_3.x86_64
	Compiler: gcc 8.4.1 20200928

Debian 11 (Buster)
	Kernel: Container Host Kernel
	Compiler: gcc 10.2.1

Ubuntu 20.04 (ARM)
	Kernel: Container Host Kernel
	Compiler: gcc 9.4.0

To view detailed results, visit:
https://lab.dpdk.org/results/dashboard/patchsets/25937/

UNH-IOL DPDK Community Lab

To manage your email subscriptions, visit: 
https://lab.dpdk.org/results/dashboard/preferences/subscriptions/


More information about the test-report mailing list