|SUCCESS| pw125856 [PATCH] [v3] eventdev/eth_rx: fix invalid memory access
dpdklab at iol.unh.edu
dpdklab at iol.unh.edu
Fri Apr 7 21:20:54 CEST 2023
Test-Label: iol-abi-testing
Test-Status: SUCCESS
http://dpdk.org/patch/125856
_Testing PASS_
Submitter: Pavan Nikhilesh Bhagavatula <pbhagavatula at marvell.com>
Date: Friday, April 07 2023 06:47:32
DPDK git baseline: Repo:dpdk
Branch: master
CommitID:65487b12db83c9ef37526a983c43191cd44dae99
125856 --> testing pass
Test environment and result as below:
+-----------------+----------+
| Environment | abi_test |
+=================+==========+
| CentOS Stream 9 | PASS |
+-----------------+----------+
| Ubuntu 22.04 | PASS |
+-----------------+----------+
| RHEL 7 | PASS |
+-----------------+----------+
CentOS Stream 9
Kernel: 4.18.0-240.10.1.el8_3.x86_64
Compiler: gcc 11.3.1 20220421
Ubuntu 22.04
Kernel: Container Host Kernel
Compiler: gcc 12.2.1-2
RHEL 7
Kernel: 4.18.0-240.10.1.el8_3.x86_64
Compiler: gcc 4.8.5 20150623 (Red Hat 4.8.5-44)
To view detailed results, visit:
https://lab.dpdk.org/results/dashboard/patchsets/25938/
UNH-IOL DPDK Community Lab
To manage your email subscriptions, visit:
https://lab.dpdk.org/results/dashboard/preferences/subscriptions/
More information about the test-report
mailing list