|SUCCESS| pw125897 [PATCH] mempool/cnxk: avoid indefinite wait when counting batch alloc pointers

dpdklab at iol.unh.edu dpdklab at iol.unh.edu
Tue Apr 11 12:31:11 CEST 2023


Test-Label: iol-abi-testing
Test-Status: SUCCESS
http://dpdk.org/patch/125897

_Testing PASS_

Submitter: Ashwin Sekhar T K <asekhar at marvell.com>
Date: Tuesday, April 11 2023 07:21:46 
DPDK git baseline: Repo:dpdk
  Branch: master
  CommitID:65487b12db83c9ef37526a983c43191cd44dae99

125897 --> testing pass

Test environment and result as below:

+-----------------+----------+
|   Environment   | abi_test |
+=================+==========+
| Ubuntu 22.04    | PASS     |
+-----------------+----------+
| CentOS Stream 9 | PASS     |
+-----------------+----------+
| RHEL8           | PASS     |
+-----------------+----------+


Ubuntu 22.04
	Kernel: Container Host Kernel
	Compiler: clang 14.0.5-1.fc36

CentOS Stream 9
	Kernel: 4.18.0-240.10.1.el8_3.x86_64
	Compiler: gcc 11.3.1 20220421

RHEL8
	Kernel: 4.18.0-240.10.1.el8_3.x86_64
	Compiler: gcc 8.3.1 20191121 (Red Hat 8.3.1-5)

To view detailed results, visit:
https://lab.dpdk.org/results/dashboard/patchsets/25953/

UNH-IOL DPDK Community Lab

To manage your email subscriptions, visit: 
https://lab.dpdk.org/results/dashboard/preferences/subscriptions/


More information about the test-report mailing list