|SUCCESS| pw125933 [PATCH] [v3] app/testpmd: txonly multiflow port change support

dpdklab at iol.unh.edu dpdklab at iol.unh.edu
Wed Apr 12 17:29:00 CEST 2023


Test-Label: iol-abi-testing
Test-Status: SUCCESS
http://dpdk.org/patch/125933

_Testing PASS_

Submitter: Joshua Washington <joshwash at google.com>
Date: Tuesday, April 11 2023 20:24:30 
DPDK git baseline: Repo:dpdk
  Branch: master
  CommitID:65487b12db83c9ef37526a983c43191cd44dae99

125933 --> testing pass

Test environment and result as below:

+---------------+----------+
|  Environment  | abi_test |
+===============+==========+
| Ubuntu 22.04  | PASS     |
+---------------+----------+
| RHEL 7        | PASS     |
+---------------+----------+
| Debian Buster | PASS     |
+---------------+----------+


Ubuntu 22.04
	Kernel: 4.18.0-240.10.1.el8_3.x86_64
	Compiler: gcc 11.3.0

RHEL 7
	Kernel: 4.18.0-240.10.1.el8_3.x86_64
	Compiler: gcc 4.8.5 20150623 (Red Hat 4.8.5-44)

Debian Buster
	Kernel: 5.4.0-122-generic
	Compiler: gcc 8.3.0-6

To view detailed results, visit:
https://lab.dpdk.org/results/dashboard/patchsets/25960/

UNH-IOL DPDK Community Lab

To manage your email subscriptions, visit: 
https://lab.dpdk.org/results/dashboard/preferences/subscriptions/


More information about the test-report mailing list