|SUCCESS| pw125970 [PATCH] [v4] app/testpmd: txonly multiflow port change support
dpdklab at iol.unh.edu
dpdklab at iol.unh.edu
Thu Apr 13 00:17:12 CEST 2023
Test-Label: iol-unit-testing
Test-Status: SUCCESS
http://dpdk.org/patch/125970
_Testing PASS_
Submitter: Joshua Washington <joshwash at google.com>
Date: Wednesday, April 12 2023 18:16:19
DPDK git baseline: Repo:dpdk
Branch: master
CommitID:3b3fef9de22af80d173453ab65a80b01ce38cbfd
125970 --> testing pass
Test environment and result as below:
+--------------------+----------------+
| Environment | dpdk_unit_test |
+====================+================+
| Debian 11 (Buster) | PASS |
+--------------------+----------------+
| CentOS Stream 9 | PASS |
+--------------------+----------------+
| Fedora 36 | PASS |
+--------------------+----------------+
| Ubuntu 20.04 (ARM) | PASS |
+--------------------+----------------+
| Ubuntu 22.04 | PASS |
+--------------------+----------------+
| Debian Bullseye | PASS |
+--------------------+----------------+
| Ubuntu 20.04 | PASS |
+--------------------+----------------+
| Debian Buster | PASS |
+--------------------+----------------+
| RHEL8 | PASS |
+--------------------+----------------+
| CentOS Stream 8 | PASS |
+--------------------+----------------+
| RHEL 7 | PASS |
+--------------------+----------------+
| openSUSE Leap 15 | PASS |
+--------------------+----------------+
Debian 11 (Buster)
Kernel: Container Host Kernel
Compiler: gcc 10.2.1
CentOS Stream 9
Kernel: Container Host Kernel
Compiler: gcc 11.3.1
Fedora 36
Kernel: Container Host Kernel
Compiler: gcc 12.2.1
Ubuntu 20.04 (ARM)
Kernel: Container Host Kernel
Compiler: gcc 9.4.0
Ubuntu 22.04
Kernel: Container Host Kernel
Compiler: gcc 11.3.1-2
Debian Bullseye
Kernel: 5.4.0-122-generic
Compiler: gcc 10.2.1-6
Ubuntu 20.04
Kernel: 4.18.0-240.10.1.el8_3.x86_64
Compiler: gcc 9.3.0-17ubuntu1~20.04
Debian Buster
Kernel: 5.4.0-122-generic
Compiler: gcc 8.3.0-6
RHEL8
Kernel: 4.18.0-240.10.1.el8_3.x86_64
Compiler: gcc 8.3.1 20191121 (Red Hat 8.3.1-5)
CentOS Stream 8
Kernel: 4.18.0-240.10.1.el8_3.x86_64
Compiler: gcc 8.4.1 20200928
RHEL 7
Kernel: 4.18.0-240.10.1.el8_3.x86_64
Compiler: gcc 4.8.5 20150623 (Red Hat 4.8.5-44)
openSUSE Leap 15
Kernel: 4.18.0-240.10.1.el8_3.x86_64
Compiler: gcc 7.5.0
To view detailed results, visit:
https://lab.dpdk.org/results/dashboard/patchsets/25974/
UNH-IOL DPDK Community Lab
To manage your email subscriptions, visit:
https://lab.dpdk.org/results/dashboard/preferences/subscriptions/
More information about the test-report
mailing list