|SUCCESS| pw126003-126020 [PATCH] [18/18] common/idpf: update license and README
dpdklab at iol.unh.edu
dpdklab at iol.unh.edu
Thu Apr 13 13:11:41 CEST 2023
Test-Label: iol-unit-testing
Test-Status: SUCCESS
http://dpdk.org/patch/126020
_Testing PASS_
Submitter: Wenjing Qiao <wenjing.qiao at intel.com>
Date: Thursday, April 13 2023 09:45:02
DPDK git baseline: Repo:dpdk
Branch: master
CommitID:3b3fef9de22af80d173453ab65a80b01ce38cbfd
126003-126020 --> testing pass
Test environment and result as below:
+--------------------+----------------+
| Environment | dpdk_unit_test |
+====================+================+
| CentOS Stream 9 | PASS |
+--------------------+----------------+
| Debian 11 (Buster) | PASS |
+--------------------+----------------+
| Fedora 36 | PASS |
+--------------------+----------------+
| Ubuntu 20.04 (ARM) | PASS |
+--------------------+----------------+
| CentOS Stream 8 | PASS |
+--------------------+----------------+
| Debian Buster | PASS |
+--------------------+----------------+
| Ubuntu 22.04 | PASS |
+--------------------+----------------+
| Debian Bullseye | PASS |
+--------------------+----------------+
| Ubuntu 20.04 | PASS |
+--------------------+----------------+
CentOS Stream 9
Kernel: Container Host Kernel
Compiler: gcc 11.3.1
Debian 11 (Buster)
Kernel: Container Host Kernel
Compiler: gcc 10.2.1
Fedora 36
Kernel: Container Host Kernel
Compiler: gcc 12.2.1
Ubuntu 20.04 (ARM)
Kernel: Container Host Kernel
Compiler: gcc 9.4.0
CentOS Stream 8
Kernel: 4.18.0-240.10.1.el8_3.x86_64
Compiler: gcc 8.4.1 20200928
Debian Buster
Kernel: 5.4.0-122-generic
Compiler: gcc 8.3.0-6
Ubuntu 22.04
Kernel: Container Host Kernel
Compiler: gcc 12.2.1-2
Debian Bullseye
Kernel: 5.4.0-122-generic
Compiler: gcc 10.2.1-6
Ubuntu 20.04
Kernel: 4.18.0-240.10.1.el8_3.x86_64
Compiler: gcc 9.3.0-17ubuntu1~20.04
To view detailed results, visit:
https://lab.dpdk.org/results/dashboard/patchsets/25980/
UNH-IOL DPDK Community Lab
To manage your email subscriptions, visit:
https://lab.dpdk.org/results/dashboard/preferences/subscriptions/
More information about the test-report
mailing list