|SUCCESS| pw126072 [PATCH] bitmap: add scan init at given position
dpdklab at iol.unh.edu
dpdklab at iol.unh.edu
Sat Apr 15 03:02:44 CEST 2023
Test-Label: iol-abi-testing
Test-Status: SUCCESS
http://dpdk.org/patch/126072
_Testing PASS_
Submitter: Volodymyr Fialko <vfialko at marvell.com>
Date: Friday, April 14 2023 08:39:43
DPDK git baseline: Repo:dpdk
Branch: master
CommitID:3b3fef9de22af80d173453ab65a80b01ce38cbfd
126072 --> testing pass
Test environment and result as below:
+-----------------+----------+
| Environment | abi_test |
+=================+==========+
| CentOS Stream 9 | PASS |
+-----------------+----------+
| Debian Buster | PASS |
+-----------------+----------+
| CentOS Stream 8 | PASS |
+-----------------+----------+
| Ubuntu 22.04 | PASS |
+-----------------+----------+
CentOS Stream 9
Kernel: 4.18.0-240.10.1.el8_3.x86_64
Compiler: gcc 11.3.1 20220421
Debian Buster
Kernel: 5.4.0-122-generic
Compiler: gcc 8.3.0-6
CentOS Stream 8
Kernel: 4.18.0-240.10.1.el8_3.x86_64
Compiler: gcc 8.4.1 20200928
Ubuntu 22.04
Kernel: Container Host Kernel
Compiler: clang 14.0.5-1.fc36
To view detailed results, visit:
https://lab.dpdk.org/results/dashboard/patchsets/25993/
UNH-IOL DPDK Community Lab
To manage your email subscriptions, visit:
https://lab.dpdk.org/results/dashboard/preferences/subscriptions/
More information about the test-report
mailing list