|SUCCESS| pw126245 [PATCH] crypto/openssl: do not build useless workaround

dpdklab at iol.unh.edu dpdklab at iol.unh.edu
Tue Apr 18 22:17:47 CEST 2023


Test-Label: iol-abi-testing
Test-Status: SUCCESS
http://dpdk.org/patch/126245

_Testing PASS_

Submitter: Didier Pallard <didier.pallard at 6wind.com>
Date: Tuesday, April 18 2023 14:56:19 
DPDK git baseline: Repo:dpdk
  Branch: master
  CommitID:3b3fef9de22af80d173453ab65a80b01ce38cbfd

126245 --> testing pass

Test environment and result as below:

+-----------------+----------+
|   Environment   | abi_test |
+=================+==========+
| Debian Bullseye | PASS     |
+-----------------+----------+
| RHEL 7          | PASS     |
+-----------------+----------+
| Debian Buster   | PASS     |
+-----------------+----------+


Debian Bullseye
	Kernel: 5.4.0-122-generic
	Compiler: gcc 10.2.1-6

RHEL 7
	Kernel: 4.18.0-240.10.1.el8_3.x86_64
	Compiler: gcc 4.8.5 20150623 (Red Hat 4.8.5-44)

Debian Buster
	Kernel: 5.4.0-122-generic
	Compiler: gcc 8.3.0-6

To view detailed results, visit:
https://lab.dpdk.org/results/dashboard/patchsets/26036/

UNH-IOL DPDK Community Lab

To manage your email subscriptions, visit: 
https://lab.dpdk.org/results/dashboard/preferences/subscriptions/


More information about the test-report mailing list