|SUCCESS| pw126256 [PATCH] [v4] net/i40e: support enable/disable source pruning

dpdklab at iol.unh.edu dpdklab at iol.unh.edu
Wed Apr 19 09:44:38 CEST 2023


Test-Label: iol-abi-testing
Test-Status: SUCCESS
http://dpdk.org/patch/126256

_Testing PASS_

Submitter: Mingjin Ye <mingjinx.ye at intel.com>
Date: Wednesday, April 19 2023 05:24:56 
DPDK git baseline: Repo:dpdk
  Branch: master
  CommitID:3b3fef9de22af80d173453ab65a80b01ce38cbfd

126256 --> testing pass

Test environment and result as below:

+-----------------+----------+
|   Environment   | abi_test |
+=================+==========+
| Ubuntu 22.04    | PASS     |
+-----------------+----------+
| Debian Bullseye | PASS     |
+-----------------+----------+
| CentOS Stream 9 | PASS     |
+-----------------+----------+
| Debian Buster   | PASS     |
+-----------------+----------+
| RHEL8           | PASS     |
+-----------------+----------+


Ubuntu 22.04
	Kernel: Container Host Kernel
	Compiler: gcc 12.2.1-2

Debian Bullseye
	Kernel: 5.4.0-122-generic
	Compiler: gcc 10.2.1-6

CentOS Stream 9
	Kernel: 4.18.0-240.10.1.el8_3.x86_64
	Compiler: gcc 11.3.1 20220421

Debian Buster
	Kernel: 5.4.0-122-generic
	Compiler: gcc 8.3.0-6

RHEL8
	Kernel: 4.18.0-240.10.1.el8_3.x86_64
	Compiler: gcc 8.3.1 20191121 (Red Hat 8.3.1-5)

To view detailed results, visit:
https://lab.dpdk.org/results/dashboard/patchsets/26046/

UNH-IOL DPDK Community Lab

To manage your email subscriptions, visit: 
https://lab.dpdk.org/results/dashboard/preferences/subscriptions/


More information about the test-report mailing list