|SUCCESS| pw126286 [PATCH] crypto/uadk: set queue pair in dev_configure
dpdklab at iol.unh.edu
dpdklab at iol.unh.edu
Thu Apr 20 12:58:58 CEST 2023
Test-Label: iol-aarch64-unit-testing
Test-Status: SUCCESS
http://dpdk.org/patch/126286
_Testing PASS_
Submitter: Zhangfei Gao <zhangfei.gao at linaro.org>
Date: Thursday, April 20 2023 06:57:07
DPDK git baseline: Repo:dpdk
Branch: master
CommitID:5f34cc454df420b9b2da8deb949fb76cba058b87
126286 --> testing pass
Test environment and result as below:
+----------------------+------------------------------+---------------------------+--------------+
| Environment | cryptodev_sw_snow3g_autotest | cryptodev_sw_zuc_autotest | lpm_autotest |
+======================+==============================+===========================+==============+
| Debian 11 | PASS | PASS | SKIPPED |
+----------------------+------------------------------+---------------------------+--------------+
| Ubuntu 20.04 ARM SVE | SKIPPED | SKIPPED | PASS |
+----------------------+------------------------------+---------------------------+--------------+
Debian 11
Kernel: Container Host Kernel
Compiler: gcc 10.2.1
Ubuntu 20.04 ARM SVE
Kernel: 5.4.0-80-generic
Compiler: gcc 10.3.0 (Ubuntu 10.3.0-1ubuntu1~20.04)
To view detailed results, visit:
https://lab.dpdk.org/results/dashboard/patchsets/26059/
UNH-IOL DPDK Community Lab
To manage your email subscriptions, visit:
https://lab.dpdk.org/results/dashboard/preferences/subscriptions/
More information about the test-report
mailing list