|SUCCESS| pw126389-126396 [PATCH] [8/8] crypto/ipsec_mb: set and use session ID

dpdklab at iol.unh.edu dpdklab at iol.unh.edu
Sat Apr 22 01:23:09 CEST 2023


Test-Label: iol-abi-testing
Test-Status: SUCCESS
http://dpdk.org/patch/126396

_Testing PASS_

Submitter: Ciara Power <ciara.power at intel.com>
Date: Friday, April 21 2023 13:12:20 
DPDK git baseline: Repo:dpdk
  Branch: master
  CommitID:5f34cc454df420b9b2da8deb949fb76cba058b87

126389-126396 --> testing pass

Test environment and result as below:

+------------------+----------+
|   Environment    | abi_test |
+==================+==========+
| RHEL 7           | PASS     |
+------------------+----------+
| openSUSE Leap 15 | PASS     |
+------------------+----------+
| CentOS Stream 9  | PASS     |
+------------------+----------+
| Ubuntu 22.04     | PASS     |
+------------------+----------+


RHEL 7
	Kernel: 4.18.0-240.10.1.el8_3.x86_64
	Compiler: gcc 4.8.5 20150623 (Red Hat 4.8.5-44)

openSUSE Leap 15
	Kernel: 4.18.0-240.10.1.el8_3.x86_64
	Compiler: gcc 7.5.0

CentOS Stream 9
	Kernel: 4.18.0-240.10.1.el8_3.x86_64
	Compiler: gcc 11.3.1 20220421

Ubuntu 22.04
	Kernel: Container Host Kernel
	Compiler: gcc 11.3.1-2

To view detailed results, visit:
https://lab.dpdk.org/results/dashboard/patchsets/26084/

UNH-IOL DPDK Community Lab

To manage your email subscriptions, visit: 
https://lab.dpdk.org/results/dashboard/preferences/subscriptions/


More information about the test-report mailing list