|SUCCESS| pw126417 [PATCH] [v5] app/testpmd: txonly multiflow port change support
dpdklab at iol.unh.edu
dpdklab at iol.unh.edu
Sat Apr 22 03:57:14 CEST 2023
Test-Label: iol-abi-testing
Test-Status: SUCCESS
http://dpdk.org/patch/126417
_Testing PASS_
Submitter: Joshua Washington <joshwash at google.com>
Date: Friday, April 21 2023 23:20:22
DPDK git baseline: Repo:dpdk
Branch: master
CommitID:5f34cc454df420b9b2da8deb949fb76cba058b87
126417 --> testing pass
Test environment and result as below:
+---------------+----------+
| Environment | abi_test |
+===============+==========+
| Ubuntu 22.04 | PASS |
+---------------+----------+
| Debian Buster | PASS |
+---------------+----------+
| RHEL 7 | PASS |
+---------------+----------+
Ubuntu 22.04
Kernel: 4.18.0-240.10.1.el8_3.x86_64
Compiler: gcc 11.3.0
Debian Buster
Kernel: 5.4.0-122-generic
Compiler: gcc 8.3.0-6
RHEL 7
Kernel: 4.18.0-240.10.1.el8_3.x86_64
Compiler: gcc 4.8.5 20150623 (Red Hat 4.8.5-44)
To view detailed results, visit:
https://lab.dpdk.org/results/dashboard/patchsets/26090/
UNH-IOL DPDK Community Lab
To manage your email subscriptions, visit:
https://lab.dpdk.org/results/dashboard/preferences/subscriptions/
More information about the test-report
mailing list