|SUCCESS| pw126434 [PATCH] [v2] crypto/uadk: set queue pair in dev_configure
dpdklab at iol.unh.edu
dpdklab at iol.unh.edu
Sun Apr 23 16:02:03 CEST 2023
Test-Label: iol-abi-testing
Test-Status: SUCCESS
http://dpdk.org/patch/126434
_Testing PASS_
Submitter: Zhangfei Gao <zhangfei.gao at linaro.org>
Date: Sunday, April 23 2023 12:52:57
DPDK git baseline: Repo:dpdk
Branch: master
CommitID:5f34cc454df420b9b2da8deb949fb76cba058b87
126434 --> testing pass
Test environment and result as below:
+------------------+----------+
| Environment | abi_test |
+==================+==========+
| Ubuntu 22.04 | PASS |
+------------------+----------+
| openSUSE Leap 15 | PASS |
+------------------+----------+
| Debian Buster | PASS |
+------------------+----------+
| CentOS Stream 8 | PASS |
+------------------+----------+
| RHEL 7 | PASS |
+------------------+----------+
| Debian Bullseye | PASS |
+------------------+----------+
| CentOS Stream 9 | PASS |
+------------------+----------+
| RHEL8 | PASS |
+------------------+----------+
Ubuntu 22.04
Kernel: Container Host Kernel
Compiler: gcc 12.2.1-2
openSUSE Leap 15
Kernel: 4.18.0-240.10.1.el8_3.x86_64
Compiler: gcc 7.5.0
Debian Buster
Kernel: 5.4.0-122-generic
Compiler: gcc 8.3.0-6
CentOS Stream 8
Kernel: 4.18.0-240.10.1.el8_3.x86_64
Compiler: gcc 8.4.1 20200928
RHEL 7
Kernel: 4.18.0-240.10.1.el8_3.x86_64
Compiler: gcc 4.8.5 20150623 (Red Hat 4.8.5-44)
Debian Bullseye
Kernel: 5.4.0-122-generic
Compiler: gcc 10.2.1-6
CentOS Stream 9
Kernel: 4.18.0-240.10.1.el8_3.x86_64
Compiler: gcc 11.3.1 20220421
RHEL8
Kernel: 4.18.0-240.10.1.el8_3.x86_64
Compiler: gcc 8.3.1 20191121 (Red Hat 8.3.1-5)
To view detailed results, visit:
https://lab.dpdk.org/results/dashboard/patchsets/26097/
UNH-IOL DPDK Community Lab
To manage your email subscriptions, visit:
https://lab.dpdk.org/results/dashboard/preferences/subscriptions/
More information about the test-report
mailing list