|SUCCESS| [GIT MASTER] 1d0b606a9294fa83a254956754e780477d959ead

dpdklab at iol.unh.edu dpdklab at iol.unh.edu
Sun Apr 23 21:55:43 CEST 2023


_Testing PASS_

Branch: dpdk

1d0b606a9294fa83a254956754e780477d959ead --> testing pass

Test environment and result as below:

+------------------+----------------------------------+
|   Environment    | dpdk_kmod_compile_torvalds_linux |
+==================+==================================+
| CentOS Stream 8  | PASS                             |
+------------------+----------------------------------+
| Ubuntu 22.04     | PASS                             |
+------------------+----------------------------------+
| CentOS Stream 9  | PASS                             |
+------------------+----------------------------------+
| Debian Buster    | PASS                             |
+------------------+----------------------------------+
| openSUSE Leap 15 | PASS                             |
+------------------+----------------------------------+


CentOS Stream 8
	Kernel: 4.18.0-240.10.1.el8_3.x86_64
	Compiler: gcc 8.4.1 20200928

Ubuntu 22.04
	Kernel: Container Host Kernel
	Compiler: gcc 11.3.1-2

CentOS Stream 9
	Kernel: 4.18.0-240.10.1.el8_3.x86_64
	Compiler: gcc 11.3.1 20220421

Debian Buster
	Kernel: 5.4.0-122-generic
	Compiler: gcc 8.3.0-6

openSUSE Leap 15
	Kernel: 4.18.0-240.10.1.el8_3.x86_64
	Compiler: gcc 7.5.0

To view detailed results, visit:
https://lab.dpdk.org/results/dashboard/tarballs/24380/

UNH-IOL DPDK Community Lab

To manage your email subscriptions, visit: 
https://lab.dpdk.org/results/dashboard/preferences/subscriptions/


More information about the test-report mailing list