|SUCCESS| [GIT MASTER] 1d0b606a9294fa83a254956754e780477d959ead
dpdklab at iol.unh.edu
dpdklab at iol.unh.edu
Sun Apr 23 22:16:29 CEST 2023
_Testing PASS_
Branch: dpdk
1d0b606a9294fa83a254956754e780477d959ead --> testing pass
Test environment and result as below:
+--------------------+----------------+
| Environment | dpdk_unit_test |
+====================+================+
| CentOS Stream 9 | PASS |
+--------------------+----------------+
| Fedora 36 | PASS |
+--------------------+----------------+
| Debian 11 (Buster) | PASS |
+--------------------+----------------+
| Ubuntu 20.04 (ARM) | PASS |
+--------------------+----------------+
| Ubuntu 22.04 | PASS |
+--------------------+----------------+
| openSUSE Leap 15 | PASS |
+--------------------+----------------+
| Debian Bullseye | PASS |
+--------------------+----------------+
| Ubuntu 20.04 | PASS |
+--------------------+----------------+
| Arch Linux | PASS |
+--------------------+----------------+
| RHEL 7 | PASS |
+--------------------+----------------+
| RHEL8 | PASS |
+--------------------+----------------+
| Debian Buster | PASS |
+--------------------+----------------+
| CentOS Stream 8 | PASS |
+--------------------+----------------+
CentOS Stream 9
Kernel: Container Host Kernel
Compiler: gcc 11.3.1
Fedora 36
Kernel: Container Host Kernel
Compiler: gcc 12.2.1
Debian 11 (Buster)
Kernel: Container Host Kernel
Compiler: gcc 10.2.1
Ubuntu 20.04 (ARM)
Kernel: Container Host Kernel
Compiler: gcc 9.4.0
Ubuntu 22.04
Kernel: Container Host Kernel
Compiler: gcc 12.2.1-2
openSUSE Leap 15
Kernel: 4.18.0-240.10.1.el8_3.x86_64
Compiler: gcc 7.5.0
Debian Bullseye
Kernel: 5.4.0-122-generic
Compiler: gcc 10.2.1-6
Ubuntu 20.04
Kernel: 4.18.0-240.10.1.el8_3.x86_64
Compiler: gcc 9.3.0-17ubuntu1~20.04
Arch Linux
Kernel: 5.4.0-73-generic
Compiler: gcc 11.1.0
RHEL 7
Kernel: 4.18.0-240.10.1.el8_3.x86_64
Compiler: gcc 4.8.5 20150623 (Red Hat 4.8.5-44)
RHEL8
Kernel: 4.18.0-240.10.1.el8_3.x86_64
Compiler: gcc 8.3.1 20191121 (Red Hat 8.3.1-5)
Debian Buster
Kernel: 5.4.0-122-generic
Compiler: gcc 8.3.0-6
CentOS Stream 8
Kernel: 4.18.0-240.10.1.el8_3.x86_64
Compiler: gcc 8.4.1 20200928
To view detailed results, visit:
https://lab.dpdk.org/results/dashboard/tarballs/24380/
UNH-IOL DPDK Community Lab
To manage your email subscriptions, visit:
https://lab.dpdk.org/results/dashboard/preferences/subscriptions/
More information about the test-report
mailing list