|SUCCESS| [GIT MASTER] 70cc4e1fed665712e68f2f45d98dda4abc6accda

dpdklab at iol.unh.edu dpdklab at iol.unh.edu
Mon Apr 24 00:27:21 CEST 2023


_Testing PASS_

Branch: dpdk

70cc4e1fed665712e68f2f45d98dda4abc6accda --> testing pass

Test environment and result as below:

+--------------+----------+
| Environment  | abi_test |
+==============+==========+
| RHEL8        | PASS     |
+--------------+----------+
| RHEL 7       | PASS     |
+--------------+----------+
| Ubuntu 22.04 | PASS     |
+--------------+----------+


RHEL8
	Kernel: 4.18.0-240.10.1.el8_3.x86_64
	Compiler: gcc 8.3.1 20191121 (Red Hat 8.3.1-5)

RHEL 7
	Kernel: 4.18.0-240.10.1.el8_3.x86_64
	Compiler: gcc 4.8.5 20150623 (Red Hat 4.8.5-44)

Ubuntu 22.04
	Kernel: Container Host Kernel
	Compiler: clang 14.0.5-1.fc36

To view detailed results, visit:
https://lab.dpdk.org/results/dashboard/tarballs/24381/

UNH-IOL DPDK Community Lab

To manage your email subscriptions, visit: 
https://lab.dpdk.org/results/dashboard/preferences/subscriptions/


More information about the test-report mailing list