|SUCCESS| [GIT MASTER] aa96e66c9abca5fa1e6024f9ddd52ee4f2e05b12
dpdklab at iol.unh.edu
dpdklab at iol.unh.edu
Mon Apr 24 06:48:40 CEST 2023
_Testing PASS_
Branch: tags/v22.11
aa96e66c9abca5fa1e6024f9ddd52ee4f2e05b12 --> testing pass
Test environment and result as below:
+-----------------+----------+
| Environment | abi_test |
+=================+==========+
| RHEL 7 | PASS |
+-----------------+----------+
| Debian Bullseye | PASS |
+-----------------+----------+
| Ubuntu 22.04 | PASS |
+-----------------+----------+
RHEL 7
Kernel: 4.18.0-240.10.1.el8_3.x86_64
Compiler: gcc 4.8.5 20150623 (Red Hat 4.8.5-44)
Debian Bullseye
Kernel: 5.4.0-122-generic
Compiler: gcc 10.2.1-6
Ubuntu 22.04
Kernel: 4.18.0-240.10.1.el8_3.x86_64
Compiler: gcc 11.3.0
To view detailed results, visit:
https://lab.dpdk.org/results/dashboard/tarballs/24383/
UNH-IOL DPDK Community Lab
To manage your email subscriptions, visit:
https://lab.dpdk.org/results/dashboard/preferences/subscriptions/
More information about the test-report
mailing list