|SUCCESS| pw126513-126515 [PATCH] [v2, 3/3] app/eventdev: prevent mempool exhaustion

dpdklab at iol.unh.edu dpdklab at iol.unh.edu
Tue Apr 25 23:52:32 CEST 2023


Test-Label: iol-aarch64-unit-testing
Test-Status: SUCCESS
http://dpdk.org/patch/126515

_Testing PASS_

Submitter: Pavan Nikhilesh Bhagavatula <pbhagavatula at marvell.com>
Date: Tuesday, April 25 2023 19:51:10 
DPDK git baseline: Repo:dpdk
  Branch: master
  CommitID:d03446724972d2a1bb645ce7f3e64f5ef0203d61

126513-126515 --> testing pass

Test environment and result as below:

+----------------------+------------------------------+---------------------------+--------------+
|     Environment      | cryptodev_sw_snow3g_autotest | cryptodev_sw_zuc_autotest | lpm_autotest |
+======================+==============================+===========================+==============+
| Debian 11            | PASS                         | PASS                      | SKIPPED      |
+----------------------+------------------------------+---------------------------+--------------+
| Ubuntu 20.04 ARM SVE | SKIPPED                      | SKIPPED                   | PASS         |
+----------------------+------------------------------+---------------------------+--------------+


Debian 11
	Kernel: Container Host Kernel
	Compiler: gcc 10.2.1

Ubuntu 20.04 ARM SVE
	Kernel: 5.4.0-80-generic
	Compiler: gcc 10.3.0 (Ubuntu 10.3.0-1ubuntu1~20.04)

To view detailed results, visit:
https://lab.dpdk.org/results/dashboard/patchsets/26119/

UNH-IOL DPDK Community Lab

To manage your email subscriptions, visit: 
https://lab.dpdk.org/results/dashboard/preferences/subscriptions/


More information about the test-report mailing list