|SUCCESS| pw126551-126557 [PATCH] [v2, next, 7/7] net/vmxnet3: update to version 7

dpdklab at iol.unh.edu dpdklab at iol.unh.edu
Thu Apr 27 02:59:03 CEST 2023


Test-Label: iol-abi-testing
Test-Status: SUCCESS
http://dpdk.org/patch/126557

_Testing PASS_

Submitter: Ronak Doshi <doshir at vmware.com>
Date: Wednesday, April 26 2023 19:04:14 
DPDK git baseline: Repo:dpdk
  Branch: master
  CommitID:d03446724972d2a1bb645ce7f3e64f5ef0203d61

126551-126557 --> testing pass

Test environment and result as below:

+---------------+----------+
|  Environment  | abi_test |
+===============+==========+
| RHEL 7        | PASS     |
+---------------+----------+
| RHEL8         | PASS     |
+---------------+----------+
| Debian Buster | PASS     |
+---------------+----------+


RHEL 7
	Kernel: 4.18.0-240.10.1.el8_3.x86_64
	Compiler: gcc 4.8.5 20150623 (Red Hat 4.8.5-44)

RHEL8
	Kernel: 4.18.0-240.10.1.el8_3.x86_64
	Compiler: gcc 8.3.1 20191121 (Red Hat 8.3.1-5)

Debian Buster
	Kernel: 5.4.0-122-generic
	Compiler: gcc 8.3.0-6

To view detailed results, visit:
https://lab.dpdk.org/results/dashboard/patchsets/26127/

UNH-IOL DPDK Community Lab

To manage your email subscriptions, visit: 
https://lab.dpdk.org/results/dashboard/preferences/subscriptions/


More information about the test-report mailing list