|SUCCESS| pw126619-126621 [PATCH] [v1, 3/3] crypto/openssl: add SM2 asymmetric crypto support

dpdklab at iol.unh.edu dpdklab at iol.unh.edu
Fri Apr 28 13:43:36 CEST 2023


Test-Label: iol-aarch64-unit-testing
Test-Status: SUCCESS
http://dpdk.org/patch/126621

_Testing PASS_

Submitter: Gowrishankar Muthukrishnan <gmuthukrishn at marvell.com>
Date: Friday, April 28 2023 09:28:21 
DPDK git baseline: Repo:dpdk
  Branch: master
  CommitID:d03446724972d2a1bb645ce7f3e64f5ef0203d61

126619-126621 --> testing pass

Test environment and result as below:

+----------------------+---------------------------+--------------+------------------------------+
|     Environment      | cryptodev_sw_zuc_autotest | lpm_autotest | cryptodev_sw_snow3g_autotest |
+======================+===========================+==============+==============================+
| Debian 11            | PASS                      | SKIPPED      | PASS                         |
+----------------------+---------------------------+--------------+------------------------------+
| Ubuntu 20.04 ARM SVE | SKIPPED                   | PASS         | SKIPPED                      |
+----------------------+---------------------------+--------------+------------------------------+


Debian 11
	Kernel: Container Host Kernel
	Compiler: gcc 10.2.1

Ubuntu 20.04 ARM SVE
	Kernel: 5.4.0-80-generic
	Compiler: gcc 10.3.0 (Ubuntu 10.3.0-1ubuntu1~20.04)

To view detailed results, visit:
https://lab.dpdk.org/results/dashboard/patchsets/26138/

UNH-IOL DPDK Community Lab

To manage your email subscriptions, visit: 
https://lab.dpdk.org/results/dashboard/preferences/subscriptions/


More information about the test-report mailing list