|SUCCESS| pw129768 [PATCH] [v1] eventdev/crypto: flush ops when circ
dpdklab at iol.unh.edu
dpdklab at iol.unh.edu
Tue Aug 1 18:38:34 CEST 2023
Test-Label: iol-aarch-unit-testing
Test-Status: SUCCESS
http://dpdk.org/patch/129768
_Testing PASS_
Submitter: Ganapati Kundapura <ganapati.kundapura at intel.com>
Date: Tuesday, August 01 2023 05:44:57
DPDK git baseline: Repo:dpdk
Branch: master
CommitID:0ae35eceb9e4569b0814fcf671b4455301bb7518
129768 --> testing pass
Test environment and result as below:
+-----------------------------+---------------------------+--------------+----------------+------------------------------+
| Environment | cryptodev_sw_zuc_autotest | lpm_autotest | dpdk_unit_test | cryptodev_sw_snow3g_autotest |
+=============================+===========================+==============+================+==============================+
| Debian 11 | PASS | SKIPPED | SKIPPED | PASS |
+-----------------------------+---------------------------+--------------+----------------+------------------------------+
| Ubuntu 20.04 ARM SVE | SKIPPED | PASS | SKIPPED | SKIPPED |
+-----------------------------+---------------------------+--------------+----------------+------------------------------+
| (32-bit) ARM Ubuntu 20.04.4 | SKIPPED | SKIPPED | PASS | SKIPPED |
+-----------------------------+---------------------------+--------------+----------------+------------------------------+
Debian 11
Kernel: Container Host Kernel
Compiler: gcc 10.2.1
Ubuntu 20.04 ARM SVE
Kernel: 5.4.0-80-generic
Compiler: gcc 10.3.0 (Ubuntu 10.3.0-1ubuntu1~20.04)
(32-bit) ARM Ubuntu 20.04.4
Kernel: 5.4.0-148-generic aarch64
Compiler: gcc 9.4
To view detailed results, visit:
https://lab.dpdk.org/results/dashboard/patchsets/27177/
UNH-IOL DPDK Community Lab
To manage your email subscriptions, visit:
https://lab.dpdk.org/results/dashboard/preferences/subscriptions/
More information about the test-report
mailing list