|SUCCESS| pw129907 [PATCH] app/test-pmd: fix L4 checksum with paddin

dpdklab at iol.unh.edu dpdklab at iol.unh.edu
Fri Aug 4 17:27:18 CEST 2023


Test-Label: iol-testing
Test-Status: SUCCESS
http://dpdk.org/patch/129907

_Testing PASS_

Submitter: Kaiwen Deng <kaiwenx.deng at intel.com>
Date: Friday, August 04 2023 08:28:48 
DPDK git baseline: Repo:dpdk
  Branch: master
  CommitID:33d66940e9bab36bae88cf4e1b09f53fe60cd44d

129907 --> testing pass

Test environment and result as below:

+----------------------------------------+--------------------+
|              Environment               | dpdk_meson_compile |
+========================================+====================+
| FreeBSD 13                             | PASS               |
+----------------------------------------+--------------------+
| Fedora 38                              | PASS               |
+----------------------------------------+--------------------+
| Ubuntu 22.04                           | PASS               |
+----------------------------------------+--------------------+
| RHEL8                                  | PASS               |
+----------------------------------------+--------------------+
| Windows Server 2019                    | PASS               |
+----------------------------------------+--------------------+
| Debian 11 (Buster) (ARM)               | PASS               |
+----------------------------------------+--------------------+
| Alpine                                 | PASS               |
+----------------------------------------+--------------------+
| CentOS Stream 9                        | PASS               |
+----------------------------------------+--------------------+
| Ubuntu 20.04 (ARM)                     | PASS               |
+----------------------------------------+--------------------+
| Fedora 37 (ARM)                        | PASS               |
+----------------------------------------+--------------------+
| CentOS Stream 8                        | PASS               |
+----------------------------------------+--------------------+
| Debian Bullseye                        | PASS               |
+----------------------------------------+--------------------+
| Ubuntu 20.04 ARM Clang Cross Compile   | PASS               |
+----------------------------------------+--------------------+
| openSUSE Leap 15                       | PASS               |
+----------------------------------------+--------------------+
| Fedora 38 (ARM)                        | PASS               |
+----------------------------------------+--------------------+
| Debian Buster                          | PASS               |
+----------------------------------------+--------------------+
| Ubuntu 20.04                           | PASS               |
+----------------------------------------+--------------------+
| Ubuntu 20.04 aarch32 GCC Cross Compile | PASS               |
+----------------------------------------+--------------------+
| Ubuntu 20.04 ARM GCC Cross Compile     | PASS               |
+----------------------------------------+--------------------+
| Ubuntu 20.04 ARM SVE                   | PASS               |
+----------------------------------------+--------------------+
| Fedora 38 (ARM Clang)                  | PASS               |
+----------------------------------------+--------------------+
| Fedora 37                              | PASS               |
+----------------------------------------+--------------------+


FreeBSD 13
	Kernel: 13.0
	Compiler: clang 11.0.1

Fedora 38
	Kernel: Depends on container host
	Compiler: gcc 13.1.1

Ubuntu 22.04
	Kernel: 4.18.0-240.10.1.el8_3.x86_64
	Compiler: gcc 11.3.0

RHEL8
	Kernel: 4.18.0-240.10.1.el8_3.x86_64
	Compiler: gcc 8.3.1 20191121 (Red Hat 8.3.1-5)

Windows Server 2019
	Kernel: 10.0
	Compiler: clang 14.0 and gcc 8.1.0 (MinGW)

Debian 11 (Buster) (ARM)
	Kernel: Container Host Kernel
	Compiler: gcc 10.2.1

Alpine
	Kernel: 5.4.0-73-generic
	Compiler: gcc (Alpine 10.3.1_git20210424) 10.3.1 20210424

CentOS Stream 9
	Kernel: 4.18.0-240.10.1.el8_3.x86_64
	Compiler: gcc 11.3.1 20220421

Ubuntu 20.04 (ARM)
	Kernel: Container Host Kernel
	Compiler: gcc 9.4.0

Fedora 37 (ARM)
	Kernel: Depends on container host
	Compiler: gcc 12.3.1

CentOS Stream 8
	Kernel: 4.18.0-240.10.1.el8_3.x86_64
	Compiler: gcc 8.4.1 20200928

Debian Bullseye
	Kernel: 5.4.0-122-generic
	Compiler: gcc 10.2.1-6

Ubuntu 20.04 ARM Clang Cross Compile
	Kernel: 5.4.0-72-generic
	Compiler: clang version 10.0.0-4ubuntu1

openSUSE Leap 15
	Kernel: 4.18.0-240.10.1.el8_3.x86_64
	Compiler: gcc 7.5.0

Fedora 38 (ARM)
	Kernel: Depends on container host
	Compiler: gcc 13.1.1

Debian Buster
	Kernel: 5.4.0-122-generic
	Compiler: gcc 8.3.0-6

Ubuntu 20.04
	Kernel: 5.4.0-153-generic
	Compiler: gcc 9.4.0-1ubuntu1~20.04.1

Ubuntu 20.04 aarch32 GCC Cross Compile
	Kernel: 5.4.0-72-generic
	Compiler: gcc 9.3.0

Ubuntu 20.04 ARM GCC Cross Compile
	Kernel: 5.4.0-72-generic
	Compiler: aarch64-linux-gnu-gcc (Ubuntu 9.3.0-17ubuntu1~20.04) 9.3.0

Ubuntu 20.04 ARM SVE
	Kernel: 5.4.0-80-generic
	Compiler: gcc 10.3.0 (Ubuntu 10.3.0-1ubuntu1~20.04)

Fedora 38 (ARM Clang)
	Kernel: Depends on container host
	Compiler: clang 16.0.3

Fedora 37
	Kernel: Depends on container host system
	Compiler: gcc 12.3.1

To view detailed results, visit:
https://lab.dpdk.org/results/dashboard/patchsets/27231/

UNH-IOL DPDK Community Lab

To manage your email subscriptions, visit: 
https://lab.dpdk.org/results/dashboard/preferences/subscriptions/


More information about the test-report mailing list